BEGIN:VCALENDAR
METHOD:PUBLISH
VERSION:2.0
PRODID:-//Eventilla iCal Syndication//NONSGML Liana//EN
BEGIN:VEVENT
UID:0081p@eventilla.com
DTSTAMP:20241009T140000Z
DTSTART:20241009T140000Z
DTEND:20241124T130000Z
SUMMARY:Esseekurssi
DESCRIPTION:Toiveuusinta syksyltä 2023: Esseekurssi Kriittisen korkeakoulun kanssa\nke 9.10. klo 17–20ke 23.10. klo 17–20ke 13.11. klo 17–20la–su 23.–24.11. klo 10–15\nTekstin talo\, Lintulahdenkatu 3\, Helsinki\nHUOM. ILMOITTAUMINEN PÄÄTTYY JO SUNNUNTAINA 8.9. KURSSI TOTEUTUU VAIN\, JOS MUKAAN SAADAAN 15 OSALLISTUJAA. VARAA PAIKKASI NYT!\nHaluatko oppia kirjoittamaan esseitä tai löytää itsestäsi uusia puolia kirjoittajana? Tule esseekurssille\, jonka uusinnan HSJ järjestää yhteistyössä Kriittisen korkeakoulun kanssa! \nKurssilla kirjoitetaan esseitä ja kokeillaan ohjaajien tuella erilaisia lähestymistapoja lajityyppiin. Mikäli tämä kurssi toteutuu\, työskentelyä voi mahdollisesti jatkaa keväällä 2025 järjestettävällä esseen jatkokurssilla.\nKurssin aikana kirjoitettavat esseet voivat olla journalistisia tai yhdistää eri kirjallisuuden lajeja. Ohjaajien johdolla tutustutaan erityisesti journalistiseen ja lyyriseen esseetyyppiin.\nKurssin ohjaavat kokeneet opettajat Maaria Ylikangas ja Aurora Ala-Hakula. Ylikangas on esseisti ja kirjallisuuskriitikko\, joka kirjoittaa muun muassa Helsingin Sanomiin. Ala-Hakula on esseisti ja väitöskirjatutkija\, joka on tehnyt esseitä perinteisiin julkaisuihin sekä yhteistyötä kuva- ja äänitaiteilijoiden kanssa. Hän on viimeksi julkaissut esseevihon Hybridimanifesti (2024\, Humahdus).\n\nEsseekurssin ohjaajat Maaria Ylikangas ja Aurora Ala-Hakula\nKurssin ohjelma:\nke 9.10. kello 17–20 Johdatus esseeseen ke 23.10. kello 17–20 Kirjoittamisen keinot ke 13.11. kello 17–20 Oma havainto kirjoittamisessa la–su 23.–24.11. klo 10–15 Viikonlopputyöpaja: tekstipalautetta ja kirjoitusharjoituksia. \nKurssin kuluessa osallistujat kirjoittavat esseen\, jota työstetään tapaamisten välillä. Lopuksi järjestetään tekstityöpaja\, jonka yhteydessä jokainen osallistuja saa ohjaajalta henkilökohtaista palautetta tekstistään. HUOM. viikonlopputyöpajan päättymisaika on arvio\, kesto riippuu kurssin osallistujamäärästä.\nKurssi järjestetään Kriittisen korkeakoulun tiloissa Tekstin talossa Helsingin Sörnäisissä. Kurssille mahtuu 20 osallistujaa\, ja se toteutuu 15 osallistujalla. HSJ:n tukema jäsenhinta kurssille on 85 euroa. Hintaan ei sisälly tarjoilua.\nHuom. Kyseessä on uusinta syksyllä 2023 järjestetystä esseekurssista. Keväällä 2025 mahdollisesti järjestettävälle jatkokurssille ovat tervetulleita sekä tämän että edellisen kurssin osallistujat.\nIlmoittaudu viimeistään 8.9.\nLämpimästi tervetuloa!
LOCATION:Tekstin talo\, Lintulahdenkatu 3\, 00530\, Helsinki
URL:http://tapahtuma.hsj.fi/esseekurssi2024
END:VEVENT
END:VCALENDAR
