BEGIN:VCALENDAR
METHOD:PUBLISH
VERSION:2.0
PRODID:-//Eventilla iCal Syndication//NONSGML Liana//EN
BEGIN:VEVENT
UID:00XNX@eventilla.com
DTSTAMP:20190528T143000Z
DTSTART:20190528T143000Z
DTEND:20190528T163000Z
SUMMARY:Opastetut linturetket
DESCRIPTION:Toivotut HSJ:n linturetket\nVanhankaupunginlahdelle \n\ntiistai 28.5.  kello 17.30\n\nLähtöpaikka: Vanhankaupunginkoski\, Matinkaaren silta\, Pornaistenniemen puoleinen pää. Tarkemmat tapaamiskoordinaatit lähetetään osallistujille erikseen.\nRetkellä bongailemme kevään muuttolintuja. Ehkäpä laulujoutsen ja silkkiuikku lipuvat lähistöllä pitkin veden pintaa. Tai satakieli haastaa laulutaituruudessa viitakerttusen\, ja heille tahtia lyö pitkospuilla pyrstöään keikuttava sitruunavästäräkki.Noin 2 tuntia kestävällä retkellä käydään Pornaistenniemellä ja Lammassaaressa.\nRetki sopii hyvin kaikille linnuista kiinnostuneille.\nOppaana Tringan kokeneet lintuharjjastajat\, jotka ovat luotsanneet meitä HSJ:läisiä jo aiemmilla linturetkillämme.\nSään mukainen varustus ja omat eväät mukaan! Retki on maksuton. Ota omat kiikarit mukaan. Opas tuo kaukoputken.\nTervetuloa!
LOCATION:Vanhankaupunginlahti, Martinkaaren silta\, Jokisuuntie\, Helsinki
URL:http://tapahtuma.hsj.fi/event/00XNX
END:VEVENT
END:VCALENDAR
