BEGIN:VCALENDAR
METHOD:PUBLISH
VERSION:2.0
PRODID:-//Eventilla iCal Syndication//NONSGML Liana//EN
BEGIN:VEVENT
UID:00XaX@eventilla.com
DTSTAMP:20230215T163000Z
DTSTART:20230215T163000Z
DTEND:20230215T173000Z
SUMMARY:Elina Brotherus Didrichsenin taidemuseossa
DESCRIPTION:Vierailu ja taiteilijan opastus Elina Brotheruksen näyttelyyn Didrichsenin taidemuseossa\nkeskiviikkona 15.2. kello 18.30\nTutustumme tuoreeltaan Didrichsenin taidemuseossa helmikuussa avautuvaan valokuvaaja Elina Brotheruksen Vierailija-näyttelyyn. Näyttelyopastuksen pitää Elina Brotherus itse\, ja museo on opastuksen ajan avoinna vain HSJ:n ryhmälle.\nVierailija-näyttely rinnastaa kansainvälisestikin tunnetun Brotheruksen uutta tuotantoa ja keskeisiä teemoja pitkän uran varrelta. Näyttelyssä nähdään ensimmäistä kertaa Brotheruksen Didrichsenillä vuosina 2021–2022 kuvaama valokuvasarja Visitor (Villa Didrichsen). Didrichsenin taidemuseo on alun perin Marie-Louise (1913–1988) ja Gunnar Didrichsenin (1903–1992) koti. Visitor (Villa Didrichsen) -sarjan lähtökohtana on ollut Brotheruksen vapaus leikitellä museorakennuksen arkkitehtuurin\, interiöörin ja taidekokoelman kanssa.\nMuistathan ottaa vierailulle mukaasi voimassa olevan pressikorttisi\, joka oikeuttaa vapaaseen pääsyyn museoon. Mukaan mahtuu 25 HSJ:n jäsentä. Vierailun kesto on noin tunnin.\nDidrichsenin taidemuseo sijaitsee Helsingin Kuusisaaressa. Tarkemmat opasteet ja tietoja julkisen liikenteen yhteyksistä löydät Didrichsenin sivuilta. Museolla on myös maksuton pysäköintipaikka.
LOCATION:Didrichsenin taidemuseo\, Kuusilahdenkuja 1\, 00340\, Helsinki
URL:http://tapahtuma.hsj.fi/event/00XaX
END:VEVENT
END:VCALENDAR
