BEGIN:VCALENDAR
METHOD:PUBLISH
VERSION:2.0
PRODID:-//Eventilla iCal Syndication//NONSGML Liana//EN
BEGIN:VEVENT
UID:0g6VA@eventilla.com
DTSTAMP:20260317T124500Z
DTSTART:20260317T124500Z
DTEND:20260317T143000Z
SUMMARY:Vierailu valtioneuvoston viestintään
DESCRIPTION:Vierailu valtioneuvoston viestintään\ntiistaina 17.3. kello 14.45–16.30Valtioneuvoston linna\, median sisäänkäynti\, Aleksanterinkatu 3 H\nValtioneuvoston viestintäosasto vastaa pääministerin johdolla valtioneuvoston yhteisestä viestinnästä ja sovittaa yhteen ministeriöiden ja valtionhallinnon ulkoista viestintää. \nMitä kaikkea pääministerin ja hallituksen viestintä pitää sisällään? Miten valtionhallinnon viestintää kehitetään ja millaisia ajankohtaisia kysymyksiä siihen sisältyy? \nTule kuulemaan lisää valtioneuvoston kanslian viestinnästä! Samalla pääset kurkistamaan Valtioneuvoston linnan tiedotustilaan juuri ennen mittavaa peruskorjausta.\nOppainamme toimivat viestintäpäällikkö Aapo Riihimäki ja viestintäasiantuntija Katja Säilä. He kertovat valtioneuvoston viestinnän käytännöistä ja valottavat myös mediaviestinnän palveluita ja visuaalisen viestinnän linjauksia. Osallistujilta toivotaan ennakkokysymyksiä pohjustamaan yhteistä keskustelua.\nVierailulle mahtuu mukaan 30 HSJ:läistä ja se on jäsenille maksuton. Vierailu alkaa kello 14.45 – saavuthan paikalle ajoissa! Tapaamme valtioneuvoston linnan median sisäänkäynnillä osoitteessa Aleksanterinkatu 3H.\nHUOM. Turvajärjestelyjen vuoksi tarvitset mukaasi henkilöllisyystodistuksen. Välitämme osallistujatiedot valtioneuvostoon etukäteen.\nIlmoittaudu viimeistään 8.3.\nLämpimästi tervetuloa!\n 
LOCATION:Valtioneuvoston linna, median sisäänkäynti\, Aleksanterinkatu
 3 H\, 00170\, Helsinki\, Suomi
URL:http://tapahtuma.hsj.fi/valtioneuvosto2026
END:VEVENT
END:VCALENDAR
