BEGIN:VCALENDAR
METHOD:PUBLISH
VERSION:2.0
PRODID:-//Eventilla iCal Syndication//NONSGML Liana//EN
BEGIN:VEVENT
UID:1N12L@eventilla.com
DTSTAMP:20190116T143000Z
DTSTART:20190116T143000Z
DTEND:20190116T152000Z
SUMMARY:Gilbert & George -näyttely
DESCRIPTION:Gilbert & Georgen taide on täynnä ristiriitoja ja äärimmäisyyksiä: se on hullua ja normaalia\, taantumuksellista ja radikaalia\, perinteistä ja ultramodernia.\nGilbert & Georgen näyttelyn THE MAJOR EXHIBITION opastetut kierrokset Helsingin taidemuseo HAM\n\n16.1. kello 16.30\n22.1. kello 16.30 (varapäivä)\n\nBrittiläisen taiteilijaparin Gilbert & Georgen näyttely THE MAJOR EXHIBITION on heidän ensimmäinen merkittävä näyttelynsä Pohjoismaissa kahteenkymmeneen vuoteen.\nGilbert & Georgen taiteen tarkoitus on haastaa\, provosoida\, kyseenalaistaa\, hajottaa\, innoittaa ja jopa järkyttää yleisöä. Heidän taiteensa syvintä ydintä on anarkistinen huumori\, joka tempaa katsojan mukaansa käyttämällä vastakkainasetteluja\, asioiden kääntämistä päälaelleen\, paradokseja tai silkkaa absurdismia.\nOpastettu kierros kestää noin 50 minuuttia ja se on jäsenillemme maksuton.Tutustu peruutusehtoihin ilmoittautumislomakkeessa!
LOCATION:Helsingin taidemuseo HAM\, Eteläinen Rautatiekatu 8\, 00100\,
 Helsinki
URL:http://tapahtuma.hsj.fi/event/1N12L
END:VEVENT
END:VCALENDAR
