BEGIN:VCALENDAR
METHOD:PUBLISH
VERSION:2.0
PRODID:-//Eventilla iCal Syndication//NONSGML Liana//EN
BEGIN:VEVENT
UID:1N17L@eventilla.com
DTSTAMP:20230531T150000Z
DTSTART:20230531T150000Z
DTEND:20230531T150000Z
SUMMARY:Näyttelyintro ja Albert Edelfelt Ateneumissa
DESCRIPTION:Näyttelyintro ja Albert Edelfelt -näyttely Ateneumissa\nkeskiviikkona 31.5. kello 18–18.30 + näyttely\nRemontoitu Ateneum avautui huhtikuussa\, ja Albert Edelfelt -näyttely avautuu toukokuussa! Tule HSJ:n mukaan Edelfelt-introon\, niin saat enemmän irti Suomen tunnetuimpiin ja rakastetuimpiin kuuluvan taiteilijan näyttelystä.\nIntro tutustuttaa Edelfeltin taiteeseen asiantuntevan oppaan ja runsaan kuvaesityksen avulla. Ateneum-salissa istumapaikoilla pidettävä puolen tunnin esitys on suunnattu ryhmille\, ja sen jälkeen osallistujat voivat tutustua näyttelyyn omaan tahtiinsa. Museo on avoinna kello 20.30 asti. Intro on erityistilaisuus\, koska Edelfelt-näyttelyyn ei ruuhkien välttämiseksi järjestetä opastuksia näyttelysaleissa.\nHSJ tarjoaa näyttelyintron. Muistathan ottaa vierailulle mukaan voimassa olevan pressikorttisi\, joka oikeuttaa vapaaseen pääsyyn museoon. Mukaan mahtuu 30 HSJ:n jäsentä.\nAteneumin osoite on Kaivokatu 2. Me käytämme Ateneuminkujan puoleista ryhmäsisäänkäyntiä\, josta pääsee ryhmäkassalle. Esitämme kassalla pressikortit ja kerromme HSJ:n ja tapahtuman nimen. Kassalla asioinnin jälkeen ryhmät ohjataan Ateneum-saliin. Kokoonnumme ryhmäsisäänkäynnillä kello 17.30. Tulethan ajoissa\, sillä Ateneum-salin ovien sulkeuduttua introlle ei ole mahdollista osallistua.\nIlmoittaudu viimeistään 16.5. Tervetuloa!
LOCATION:Ateneum\, Kaivokatu 2\, 00100\, Helsinki
URL:http://tapahtuma.hsj.fi/event/1N17L
END:VEVENT
END:VCALENDAR
