BEGIN:VCALENDAR
METHOD:PUBLISH
VERSION:2.0
PRODID:-//Eventilla iCal Syndication//NONSGML Liana//EN
BEGIN:VEVENT
UID:1NGae@eventilla.com
DTSTAMP:20240208T140000Z
DTSTART:20240208T140000Z
DTEND:20240208T160000Z
SUMMARY:Johanna Aatsalon Paljastus ja Urheilumuseo Tahto
DESCRIPTION:Johanna Aatsalon Paljastus ja Urheilumuseo Tahto\ntorstaina 8.2. kello 16–18 (ovet 15.30)\nTammikuussa 1998 Johanna Aatsalo uutisoi STT:llä\, että suomalaista maajoukkuetason mieshiihtäjää epäillään dopingista\, mutta uutisen jälkeen syytetyksi ei joutunut hiihtoeliitti vaan nuori naistoimittaja. Se\, että Aatsalo oli oikeassa\, tunnustettiin vasta vuosien päästä. Miten se on mahdollista? Miten hän selviytyi oikeusmurhasta? Tule HSJ:n tilaisuuteen Urheilumuseo Tahtoon kuulemaan\, kun Aatsalo kertoo kokemuksistaan ja niitä käsittelevästä\, tammikuun lopussa ilmestyvästä Paljastus-kirjastaan (WSOY).\nJohanna Aatsalo on toimittaja\, liikuntafysiologi ja viestintäyrittäjä. Tällä hetkellä hän työskentelee Rakennuslehdessä.Kuva: Sabrina Bqain / WSOY\nAatsalon puheenvuoron jälkeen tutustumme Urheilumuseo Tahtoon opastetulla kierroksella. Museon perusnäyttely käsittelee monipuolisesti suomalaista urheiluhistoriaa\, ja vuosituhannen vaihteen dopingskandaaliin liittyen sieltä löytyy myös Kari-Pekka Kyrön kuuluisa lääkelaukku. Lisäksi museon vaihtuvassa näyttelyssä käsitellään dopingin käyttöä huippu-urheilussa ja steroidien käyttöä harrastelijoiden piirissä.\nJohanna Aatsalon alustuksen kuuntelemme museon Sylvi Saimo -kokoustilassa\, jossa tarjolla on myös kahvit. Tilaisuus alkaa kello 16\, ja kokoustilaan pääsee kello 15.30 alkaen. Mukaan mahtuu 24 HSJ:läistä. Tilaisuus on jäsenille maksuton. Muistathan kuitenkin ottaa mukaan voimassa olevan pressikorttisi\, joka oikeuttaa vapaaseen pääsyyn museoon. Urheilumuseo Tahto sijaitsee Helsingissä Olympiastadionilla osoitteessa Paavo Nurmen tie 1.Ilmoittaudu viimeistään 23.1. Tervetuloa!Iso kuva: TAHTO / Jari Salo
LOCATION:Urheilumuseo Tahto\, Paavo Nurmen tie 1\, 00250\, Helsinki\,
 Suomi
URL:http://tapahtuma.hsj.fi/event/1NGae
END:VEVENT
END:VCALENDAR
