BEGIN:VCALENDAR
METHOD:PUBLISH
VERSION:2.0
PRODID:-//Eventilla iCal Syndication//NONSGML Liana//EN
BEGIN:VEVENT
UID:2k0bV@eventilla.com
DTSTAMP:20240126T144500Z
DTSTART:20240126T144500Z
DTEND:20240126T163000Z
SUMMARY:Rauhoittumisen ilta: Tee ja meditaatio
DESCRIPTION:Rauhoittumisen ilta: Tee ja meditaatio\nperjantaina 26.1.2024 kello 16.45–18.30\nPyörivätkö mielessäsi työhuolet tai muut huolet? Kaipaatko hektisen työviikon päälle hengähdyshetkeä?\nTule HSJ:n Rauhoittumisen iltaan kokeilemaan teen ja meditaation yhdistelmää\, joka on vuosisatoja vanha tapa hiljentyä\, vahvistaa kehon ja mielen välistä yhteyttä ja löytää tasapainoa elämään. Tilaisuuden ohjaa Jarkko Myllykangas\, joka on teen ja itämaisten henkisten lajien pitkäaikainen harrastaja ja tuntija. Tilaisuus pidetään joogakoulu Shantin kauniissa Hoivasalissa.  Jarkko MyllykangasKuva: Riitta JokivuoTilaisuuden aluksi Jarkko Myllykangas alustaa teestä ja meditaatiosta. Sen jälkeen teemme noin tunnin meditaation\, jonka aikana Jarkko tarjoilee paikan päällä valmistamaansa korkealaatuista shou puerh -teetä. Osallistuminen ei vaadi aiempaa kokemusta meditaatiosta. Voit hakea miellyttävän istuma-asennon joogatyynyn avulla\, ja asentoa saa meditaation aikana vapaasti vaihtaa.\nJoogakoulu Shanti sijaitsee Helsingin Töölössä osoitteessa Runeberginkatu 43. Tilaisuus on HSJ:n jäsenille maksuton. Mukaan mahtuu 20 HSJ:läistä. Tilaisuus toteutuu kymmenellä osallistujalla.\nIlmoittaudu viimeistään 11.1.2024. Tervetuloa!\n 
LOCATION:Joogakoulu Shanti\, Runeberginkatu 43\, 00100\, Helsinki\, Suomi
URL:http://tapahtuma.hsj.fi/event/2k0bV
END:VEVENT
END:VCALENDAR
