BEGIN:VCALENDAR
METHOD:PUBLISH
VERSION:2.0
PRODID:-//Eventilla iCal Syndication//NONSGML Liana//EN
BEGIN:VEVENT
UID:2ka3o@eventilla.com
DTSTAMP:20230412T133000Z
DTSTART:20230412T133000Z
DTEND:20230412T153000Z
SUMMARY:Miten Sitra sen tekee?
DESCRIPTION:Miten Sitra sen tekee? Vierailu tulevaisuustalon viestintään.\nKeskiviikkona 12.4. klo 16:30-18:30Sitra\, Itämerenkatu 11-13\, Helsinki\n \nSitra pyrkii tuottamaan kansalaisten kannalta merkityksellistä tietoa tulevaisuudesta. Miten se käytännössä tapahtuu?\nTule kuulemaan lisää Sitran viestinnästä. Oppainamme ovat viestintäjohtaja Elina Ravantti\, ennakointi- ja strategiaviestinnästä vastaava Anna Solovjew-Wartiovaara ja viestintäpäällikkö Samuli Laita. Illan aikana kuulemme vastauksia muun muassa seuraaviin kysymyksiin:\n\nMiten monimutkaisista kokonaisuuksista viestitään selkokielellä? \nMiten hankkeesta rakennetaan brändi? \nMiten journalistinen tausta vaikuttaa tulevaisuusviestijän työhön?\nMillaisia näkymiä Sitrassa on demokratian kehittämiseen vaalien jälkeen?\n\nSitra on riippumaton rahasto\, jonka tehtävänä on luodata tulevaisuutta ja edistää talouden määrällistä ja laadullista kasvua. Käytännössä Sitra ennakoi yhteiskunnan muutoksia esimerkiksi tulevaisuusbarometrien ja megatrendien avulla\, sekä tekemällä kokeiluja eri kumppanien kanssa. Tulevaisuustyön tähtäimessä on Suomi\, joka menestyy kestävän hyvinvoinnin edelläkävijänä.\nTilaisuus on HSJ:n jäsenille maksuton\, mukaan mahtuu 50 henkilöä.\nTarjolla on kevyttä iltapalaa ja juotavaa.\nIlmoittaudu viimeistään 5.4.
LOCATION:Sitra\, Itämerenkatu 11-13\, 00181\, Helsinki
URL:http://tapahtuma.hsj.fi/event/2ka3o
END:VEVENT
END:VCALENDAR
