BEGIN:VCALENDAR
METHOD:PUBLISH
VERSION:2.0
PRODID:-//Eventilla iCal Syndication//NONSGML Liana//EN
BEGIN:VEVENT
UID:2ka6o@eventilla.com
DTSTAMP:20190327T153000Z
DTSTART:20190327T153000Z
DTEND:20190327T180000Z
SUMMARY:Kännykkävideoita Applella tai Anroidilla
DESCRIPTION:Tervetuloa HSJ:n aloittelijoille tarkoitetulle peruskurssille\nNäin teet kännykkävideon näppärästi Applella tai Androidilla\n\nKeskiviikko 27.3. klo  17.30 - 20\n\nHotelli Presidentissä\, Eteläinen Rautatiekatu 4\, Helsinki.Kouluttajina ovat Helsingin Sanomien kokeneet kuvatuottajat Esa Juntunen ja Kristiina Marttinen. Kurssin aluksi käymme Esa Juntusen johdolla läpi yleisesityksen videonteon perusasioista\, minkä jälkeen jakaudumme Apple- ja Android-ryhmiin.Esa Juntunen vetää editointiopetuksen Applen käyttäjille ja Kristiina Marttinen androidilaisille. Android-kuvaajille lähetetään ennen kurssia linkki\, josta heidän tulee ladata puhelimeensa editointiohjelma.\nKoulutuksessa annetaan lyhyet vinkit mm. seuraavista aiheista: mistä aloitan kuvaamisen\, mihin päätän? Miten liikutan kännykkää: nopeus ja suunta\, miten seuraan liikettä\, miten sijoitan ihmisen ruutuun? Mikä on hyvä videon pituus? Miten tulee hyvä lopputulos ilman vaivalloisia leikkauksia ja tuunausta? Kuvaanko ulkona vai sisällä? Miten teen helpoiten äänen: äänetön\, haastattelu\, oma selostus\, mahdollinen musiikki jälkeenpäin.Miten teen lyhyen haastattelun\, kuvaan interiööriä/lokaatiota tai miten näytän making of -sarjallisen esityksen koneen korjaamisesta/sukan kantapään neulomisesta? Mitä teen\, kun saan "tee jotain videota" -briiffin pomolta ja oma kuvaustaitoni on vielä alkutekijöissään?\nKurssin hinta: 20 euroa. Työttömiltä ja opiskelijajäseniltä 10 euroa. 
LOCATION:Hotelli Presidentti\, Eteläinen Rautatiekatu 4\, 00100\,
 Helsinki
URL:http://tapahtuma.hsj.fi/event/2ka6o
END:VEVENT
END:VCALENDAR
