BEGIN:VCALENDAR
METHOD:PUBLISH
VERSION:2.0
PRODID:-//Eventilla iCal Syndication//NONSGML Liana//EN
BEGIN:VEVENT
UID:2kaDM@eventilla.com
DTSTAMP:20201112T150000Z
DTSTART:20201112T150000Z
DTEND:20201112T180000Z
SUMMARY:Perheiden Heureka-vierailu
DESCRIPTION:Perheiden HEUREKA – SuperPUU & Suoliston salaisuus\nTo 12.11. klo 17-20Heureka\, suomalainen tiedekeskus:Tiedepuisto 1\, 01300 Vantaa\, Tikkurila(Pysäköinti ja navigointiosoite: Kuninkaalantie 5\, 01300 Vantaa\, Tikkurila)\n\nTule perheesi kanssa HSJ:n tiedeseikkailuun Heurekaan!\n\nPerheiden Heureka-vierailu starttaa lapsille ja lapsenmielisille suunnatulla Pop-up Heureka-esityksellä. Tiededemonstraatioita ja -kokeita sisältävä show kannustaa ilmiöpohjaiseen pohdintaan\, aktiivisuuteen ja vuorovaikutukseen esiintyjän kanssa.\n\nPop-up Heureka: https://www.heureka.fi/popupheureka\n\nHSJ:n jäsenistölle ja muille kiinnostuneille on tarjolla mielenkiintoinen esitys\, jossa Heurekan uusi toimitusjohtaja Mikko Myllykoski raottaa Heurekan ajankohtaisia ja suunnitteilla olevia teemoja ja hankkeita.\n\n \nAlun ohjelmaosuuksien jälkeen vierailijat saavat tutustua vapaasti SuperPUU- ja Suoliston salaisuus-näyttelyihin. Heurekan asiantuntijat ovat mukana opastamassa näyttelyiden taustoihin ja toteutukseen. \nTapahtuma on HSJ:n jäsenille (Pressikortilla) jalapsille (0-15v) maksuton.Muille aikuisille (yli 16v) hinta 15e.\n \nTilaisuudessa on kaikille osallistujille maksuton välipalatarjoilu.\nTervetuloa mukaan!
LOCATION:Heureka\, Tiedepuisto 1\, 01300\, Vantaa
URL:http://tapahtuma.hsj.fi/event/2kaDM
END:VEVENT
END:VCALENDAR
