BEGIN:VCALENDAR
METHOD:PUBLISH
VERSION:2.0
PRODID:-//Eventilla iCal Syndication//NONSGML Liana//EN
BEGIN:VEVENT
UID:2kddo@eventilla.com
DTSTAMP:20231122T144500Z
DTSTART:20231122T144500Z
DTEND:20231122T170000Z
SUMMARY:Vierailu Eduskuntataloon
DESCRIPTION:Vierailu Eduskuntataloon\nKeskiviikkona 22.11. kello 16.45–19\nHaluatko nähdä livenä salit\, joissa hallitus ja oppositio vääntävät ja ovet\, joilla toimittaja- ja kuvaajakollegat päivystävät? Tule HSJ:n vierailulle Eduskuntataloon keskiviikkona 22.11.\nOppainamme vierailulla ovat eduskunnan viestintäpäällikkö Heli Kesti ja Demokraatin eduskuntatoimittaja Johannes Ijäs. Talokierroksen ja eduskunnan toiminnan kompaktin esittelyn lisäksi kuulemme\, millaista viestijän ja toimittajan työ on eduskunnassa. Johannes Ijäs kertoo myös työstä puoluelehdessä\, kuten siitä\, miten vaalitulos näkyy työssä.\nVierailulle mahtuu mukaan 25 HSJ:läistä\, ja se on jäsenille maksuton. Vierailuun sisältyy kahvitarjoilu. Mukaasi tarvitset kuvallisen henkilötodistuksen. Vierailu alkaa kello 16.45 Eduskuntatalon A-ovelta\, jossa on turvatarkastus. Ryhmä lähtee sen jälkeen kierrokselle kello 17. Tulethan ajoissa\, niin ehdit mukaan!\nIlmoittaudu viimeistään 10.11. Ilmoittautumisen jälkeen tarkistathan\, että saat sähköpostitse ilmoittautumisvahvistuksen.\nVahvistuksen lähettäjä on Helsingin Seudun Journalistit ja otsikko Ilmoittautumisen kuittaus. Viestin kautta voit muokata osallistumistietojasi siihen asti\, kun ilmoittautumisaika tapahtumaan päättyy. Viesti on vahvistus siitä\, että ilmoittautumisesi on tullut meille perille. Tervetuloa!Kuva: Hanne Salonen / Eduskunta
LOCATION:Eduskuntatalo\, Mannerheimintie 30\, 00100\, Helsinki\, Suomi
URL:http://tapahtuma.hsj.fi/event/2kddo
END:VEVENT
END:VCALENDAR
