BEGIN:VCALENDAR
METHOD:PUBLISH
VERSION:2.0
PRODID:-//Eventilla iCal Syndication//NONSGML Liana//EN
BEGIN:VEVENT
UID:2wdQg@eventilla.com
DTSTAMP:20251211T140000Z
DTSTART:20251211T140000Z
DTEND:20251211T170000Z
SUMMARY:Kahden biljoonan budjetti. Mitä sinun tulisi tietää EU:n tulevasta rahoituskaudesta?
DESCRIPTION:Helsingin Seudun Journalistit\, Suomen freelance-journalistit ja Euroopan parlamentin Suomen-toimisto tarjoavat kaksiosaisen\, maksuttoman EU-koulutuksen journalisteille ja viestijöille! Ilmoittaudu nyt toiseen koulutukseen:\nKahden biljoonan budjetti. Mitä sinun tulisi tietää EU:n tulevasta rahoituskaudesta?\ntorstaina 11.12. kello 16.00–19.00\n\nlähitilaisuus kello 16.00 alkaen Eurooppasalissa\, Malminkatu 16\, Helsinki\nwebinaari kello 16.30 alkaen \n\n \nEuroopan komissio antoi heinäkuussa esityksen kaikkien aikojen suurimmasta EU-budjetista. Esitys monivuotisesta rahoituskehyksestä vuosille 2028–2034 on parhaillaan neuvoston ja jäsenmaiden käsiteltävänä\, myös Suomessa.\nMihin Eurooppa suunnittelee käyttävänsä kaksi biljoonaa euroa ja miten varat kerätään? Mitä tämä tarkoittaa Suomen kannalta? Miten kehys vaikuttaa jäsenmaihin ja niiden kansalaisten elämään? Entä millä tavalla talousarvioon ja sen painopisteisiin pyritään vaikuttamaan neuvottelujen aikana? Mihin kaikkeen Euroopan varoja käytetään?\nKaksiosaisen koulutuksemme toisessa osassa teemaan johdattavat EU-parlamentin budjettipääosaston pääjohtajan neuvonantaja Minna Ollikainen\, EU- ja yhteiskuntasuhteiden päällikkö Jussi Mäkinen Teknologiateollisuudesta\, Uudenmaan liiton aluekehitysjohtaja Eero Venäläinen ja Euroopan petoksentorjuntaviraston pääjohtajan paikalta eläkkeelle elokuussa jäänyt Ville Itälä. Koulutuksen juontaa EU:hun perehtynyt vapaa toimittaja Maria Markus. \nMitä – missä – milloin?\nKaksiosainen koulutus on suunnattu ensisijaisesti journalisteille ja viestijöille. Osallistujilta ei odoteta EU-asioihin perehtymistä. Yleishyödyllinen koulutus sopii kaikille median ja viestinnän parissa työskenteleville.\nKoulutukset ovat itsenäisiä ja niihin on erillinen ilmoittautuminen.\n\nEnsimmäisellä koulutuskerralla 20.11. keskitytään EU-päätöksentekoon sekä siitä raportoimiseen ja viestimiseen. (Ilmoittautuminen koulutukseen on päättynyt.)\nToisella koulutuskerralla 11.12. perehdytään unionin toiminnalle raamit antavaan monivuotiseen rahoituskehykseen eri näkökulmista.\n\nOhjelma 11.12.\n16.00    ilmoittautuminen\, kahvia ja iltapalaa\n16.30    EU:n monivuotinen rahoituskehys 2028–2034 – mitä vanhaa\, mitä uutta? / Minna Ollikainen\, EU-parlamentin DG BUDG -pääjohtajan neuvonantaja\n17.10    Vaikuttavaa edunvalvontaa. EU-rahoitus maakunnan kehittämisen välineenä / Eero Venäläinen\, aluekehitysjohtaja\, Uudenmaan liitto\n17.35   tauko\n17.45   EU-budjetti Teknologiateollisuuden silmin: yritysvetoisen tutkimuksen lobbaaminen /  Jussi Mäkinen\, EU- ja yhteiskuntasuhteiden päällikkö\, Teknologiateollisuus\n18.15   Riihikuivaa ja pesunkestävää? Mihin Euroopan sentit venyvät? / Ville Itälä\, Euroopan petoksentorjuntavirasto OLAF:n pääjohtaja 2018–elokuu 2025\nOsallistuminen\nKoulutuksen tuottavat Helsingin Seudun Journalistit\, Suomen freelance-journalistit ja Suomen Euroopan parlamentin Suomen-toimisto. Voit osallistua koulutuksiin Eurooppasalissa Helsingin Kampissa tai etänä. Ennakkoilmoittautuminen vaaditaan.\nEurooppasali on EU-parlamentin Suomen-toimiston ja Euroopan komission Suomen-edustuston yhteinen julkinen tila. Paikan päälle mahtuu mukaan 50 osallistujaa. Läsnäosallistujien ilmoittautuminen alkaa kello 16. Iltapalaa on tarjolla tilaisuuden alkuun\, 16.30 asti.\nEtäosallistujille lähetetään linkki ja ohjeet webinaarin seuraamiseen koulutusta edältävänä päivänä.\nPuheenvuorojen jälkeen on mahdollista esittää kysymyksiä – tervetuloa kuuntelemaan ja keskustelemaan!\nIlmoittaudu viimeistään 8. joulukuuta.\n 
LOCATION:Eurooppasali, EU-parlamentin Suomen-toimisto / webinaari\,
 Malminkatu 16\, 00100\, Helsinki\, Suomi
URL:http://tapahtuma.hsj.fi/kahden_biljoonan_budjetti
END:VEVENT
END:VCALENDAR
