BEGIN:VCALENDAR
METHOD:PUBLISH
VERSION:2.0
PRODID:-//Eventilla iCal Syndication//NONSGML Liana//EN
BEGIN:VEVENT
UID:3QKXR@eventilla.com
DTSTAMP:20251002T143000Z
DTSTART:20251002T143000Z
DTEND:20251002T163000Z
SUMMARY:Mari Manninen: Toimittaja kertoo niin totta kuin osaa
DESCRIPTION:Mari Manninen: Toimittaja kertoo niin totta kuin osaa\ntorstaina 2.10. klo 17.30–19.30Median museo ja arkisto Merkki\, Ludviginkatu 2–4\, Helsinki\nToimittaja Mari Manninen kyllästyi kuulemaan mitä villeimpiä käsityksiä journalistisen median toiminnasta. Samalla median vaivaantunut kiemurtelu yleisön aiheellistenkin huolien edessä tuntui väsyttävältä. Niinpä hän otti ja kirjoitti kirjan journalismista. "Toimittaja kertoo niin totta kuin osaa" ilmestyy Vastapainon julkaisemana syyskuussa 2025.\nKirjan tavoitteena on selvittää tavalliselle journalismin kuluttajalle esimerkiksi klikkioitsikoinnin syyt ja seuraukset\, toimittajien pelisäännöt ja journalistisen päätöksenteon perusteet. Samalla Manninen pyrkii paljastamaan\, miten journalistisen median olemassaolon ehtoja nyt kukistetaan.\nMitä kirjantekoprosessi opetti ja millaisia alan kipukohtia se toi esille? Entä miltä näyttää journalistisen median tulevaisuus? Tule kuulemaan tietokirjan taustoista ja keskustelemaan journalismista museo Merkkiin! Mari Mannista haastattelee kustannustoimittaja ja vapaa toimittaja Tuukka Tuomasjukka. HSJ tarjoaa lasillisen\, ja keskustelun jälkeen on aikaa kysymyksille ja ajatusten vaihtamiselle.\nMari Manninen on työskennellyt toimittajana maakuntalehdistä aikakauslehtiin ja puoluelehtiin\, iltapäivälehdistä talouslehtiin ja televisiouutisiin. Valtaosan urastaan hän on tehnyt Helsingin Sanomissa. Mannisen teos "Yhden lapsen kansa" sai tietokirjallisuuden Finlandia-palkinnon vuonna 2016.\nHelsingin Sanomain Säätiön ylläpitämä median museo ja arkisto Merkki käsittelee median merkityksiä\, uutis­historiaa ja viestinnän ilmiöitä. Pysyvän näyttelyn keskeisin viesti on vapaan median merkitys demokratialle. \nMuseo on auki vierailumme ajan ainoastaan HSJ:n jäsenille. Tilaisuus alkaa kello 17.30 Mannisen puheenvuorolla\, joka kestää noin tunnin. Tämän jälkeen osallistujilla on mahdollisuus tutustua näyttelyyn. Koko tilaisuuden kesto on kaksi tuntia. Kirja on ostettavissa illan ajan suoraan kirjailijalta alennettuun hintaan 25 e (käteinen tai Mobilepay).\nIllanviettoon mahtuu mukaan 40 HSJ:läistä ja se on jäsenille maksuton.\nIlmoittaudu mukaan viimeistään 30.9. \nLämpimästi tervetuloa!\n \nMari Mannisen kuva: Ida Pimenoff
LOCATION:Median museo ja arkisto Merkki\, Ludviginkatu 2–4\, 00130\,
 Helsinki\, Suomi
URL:http://tapahtuma.hsj.fi/niintottakuinosaa
END:VEVENT
END:VCALENDAR
