BEGIN:VCALENDAR
METHOD:PUBLISH
VERSION:2.0
PRODID:-//Eventilla iCal Syndication//NONSGML Liana//EN
BEGIN:VEVENT
UID:3pbAv@eventilla.com
DTSTAMP:20190227T150000Z
DTSTART:20190227T150000Z
DTEND:20190227T170000Z
SUMMARY:Otsikko ja ingressi
DESCRIPTION:Koukuttavat otsikot & ingressit printtiin ja nettiin\nKeskiviikko 27. helmikuuta kello 17-19 Hotelli Presidentissä\, Eteläinen Rautatienkatu 4\, Helsinki\n\nHUOM! 6.2. kurssi on täysi.\n\nMillainen otsikko ja ingressi toimii lehdessä ja millainen nettisivulla? Koulutusillassa katsotaan\, miten julkaisujärjestys vaikuttaa otsikoiden muokkaamiseen ja millaiseksi otsikointi muuttuu\, kun se hiotaan lööppiin tai kanteen sopivaksi. Ovatko parjatut klikkiotsikot hittejä vai huteja ja mitkä ovat otsikoinnin nykytrendit?\nKouluttajat: Kokeneet toimituspäälliköt Annaleena Jalava (Gloria ja Glorian koti) ja Valtteri Varpela (Ilta-Sanomat) opastavat muuttuneen otsikoinnin ja tehokkaan ingressin saloihin.\nKohderyhmä: kurssille ovat tervetulleita kaikki\, jotka kirjoittavat omaan tai toisen juttuun otsikon ja muokkaavat ingressejä sekä printtiin että nettiin sopiviksi. Kurssi sopii myös niille\, jotka haluavat edetä editoriksi tai kehittyä monimediaalisena editorina.\nRyhmän koko: 40 henkilöä.\nKurssin hinta: 20 euroa.---Annaleena Jalava on työskennellyt pitkään aikakauslehtialalla ennen Gloria-lehtiperhettä mm. Me Naisten toimituspäällikkönä\, Trendin ja Cosmopolitanin päätoimittajana. Hän on erikoistunut uudistuksiin. Valmistunut maisteriksi Tampereen yliopistosta.\nValtteri Varpela toimii Ilta-Sanomien deskistä vastaavana toimituspäällikkönä. Hän on työskennellyt Ilta-Sanomissa vuodesta 2010 verkkotoimituksen esimiehenä ja uutistoimituksen uutispäällikkönä ennen nykyistä toimenkuvaansa. Koulutukseltaan Varpela on valtiotieteiden maisteri pääaineenaan viestintä.
LOCATION:Hotelli Presidentti\, Eteläinen Rautatiekatu 4\, 00100\,
 Helsinki
URL:http://tapahtuma.hsj.fi/event/3pbAv
END:VEVENT
END:VCALENDAR
