BEGIN:VCALENDAR
METHOD:PUBLISH
VERSION:2.0
PRODID:-//Eventilla iCal Syndication//NONSGML Liana//EN
BEGIN:VEVENT
UID:3pbE5@eventilla.com
DTSTAMP:20210922T140000Z
DTSTART:20210922T140000Z
DTEND:20210922T170000Z
SUMMARY:Filosofia kirkastaa ajatuksesi
DESCRIPTION:Filosofia kirkastaa ajatuksesi\nkeskiviikkona 22.9. klo 17–20\nTullisaaren puisto. Kokoontuminen Aino Acktén huvilan parkkipaikalla Laajasalossa (Herttoniemen metroasemalta mm. bussit 84 ja 88).\nMiten filosofia voi auttaa sinua kehittymään media-alan ammattilaisena? Meille tiedonvälittäjille on tärkeää osata arvioida tiedon luotettavuutta ja havaita ilmiöihin liittyviä erilaisia näkökulmia. Asioiden muuttuessa nopeasti ajan tasalla pysyminen voi olla vaikeaa.\nFilosofian tavat hahmottaa maailmaa voivat olla avuksi haastavassa työssämme. Kuuntelun ja kysymisen taidot ovat olennaisia tiedon hankinnassa. Samoin ilmiöiden osatekijöiden\, käsitteiden ja asioiden välisten suhteiden hahmottaminen sekä argumentaatiovirheiden huomaaminen.\nKoulutuksessa voit käyttää omia työkokemuksiasi tai kouluttajan antamia esimerkkejä. Koulutus toteutetaan Tullisaaren kauniissa puistossa kävellen – kuin antiikin filosofit ikään.\nKoulutuksessa lähestymme todellisuutta ja harjoitamme ajattelun taitoa keskeisten filosofisten näkökulmien avulla. Koulutus rakentuu lyhyistä luennoista\, tehtävien alustuksista kuudessa eri pysähdyspisteessä sekä kävellen tapahtuvista tehtävien pohdiskeluista. Varusteina tarvitaan liikkuva mieli\, hyvät kengät\, säänmukaiset vaatteet ja mahdollisesti tasku- tai otsalamppu.\nKoulutuksen tavoitteena on:\n\nlöytää filosofisia ajattelun välineitä\, joilla omaa osaamista voi kehittää ja syventää\nantaa yhdessä ajattelemisen iloa\nantaa oman potentiaalin hyödyntämisestä syntyvää voimaannuttavaa tunnetta\nantaa uskoa itseen\n\nKoulutuksessa syvennytään pohtimaan\n\nerilaisia tiedon muotoja\ntotuuden olemusta\nkäsitteiden merkitystä\nmiten voit auttaa haastateltavaa\, kirjailijaa tai yhteistyökumppaniasi ajattelemaan vastauksiaan paremmin\nerilaisia näkökulmia\, kysymisen ja perustelun taitoa\n\nKoulutuksen ohjaa filosofian opettaja\, filosofian praktikko ja journalisti Else Turunen. Else on toiminimensä Liikuttavaa filosofiaa alla harjoittanut filosofista kerhotoimintaa ja hän on vetänyt filosofisia keskusteluja ja harjoituksia yleisötapahtumissa. \nKoulutukseen mahtuu vain 16 henkilöä\, joten ilmoittaudu ripeästi! Jos lippujen loputtua jonoon ilmoittautuu riittävästi halukkaita\, koulutus voidaan järjestää uudelleen.\nTapahtumalla on säävaraus: sääennuste tarkistetaan edellisenä päivänä ja mikäli luvassa on erityisen huonoa keliä\, etsimme koulutukselle toisen päivämäärän. Pieni sade ei sen toteutumista estä.\nKoulutuksen hinta on 35 euroa. Maksua varten tarvitset pankkitunnukset tai puhelimen mobiilipankkisovelluksen.\nKoulutuksen järjestää Helsingin Seudun Journalistit. Muistathan\, että työnantajalta kannattaa tiedustella osallistumista ammatillisen koulutuksen kustannuksiin.\nTervetuloa!
LOCATION:Aino Acktén huvila, Tullisaaren puisto, Laajasalo\, Aino Acktén
 huvila\, 00590\, Helsinki
URL:http://tapahtuma.hsj.fi/event/3pbE5
END:VEVENT
END:VCALENDAR
