BEGIN:VCALENDAR
METHOD:PUBLISH
VERSION:2.0
PRODID:-//Eventilla iCal Syndication//NONSGML Liana//EN
BEGIN:VEVENT
UID:4A3Wg@eventilla.com
DTSTAMP:20230304T110000Z
DTSTART:20230304T110000Z
DTEND:20230304T150000Z
SUMMARY:Neuvottelutaidon koulutus Helsingissä
DESCRIPTION:Neuvottelutaidon koulutus \nlauantaina 4.3. Oodissa kello 13–17\nMiten neuvotella rahasta\, tekijänoikeuksista tai työn ehdoista? Miten sopia editoinnista tai kuvaustavasta? \nKiitetty neuvottelutaidon koulutus saapuu vihdoin Helsinkiin. Olitpa työsuhteinen tai freelancer\, tule kouluttautumaan paremmaksi neuvottelijaksi! Kouluttajana toimii juristi\, ammattineuvottelija ja tietokirjailija Lottaliina Pokkinen Lehtinen Legal Oy:stä. Keskustelua neuvottelemisesta alustavat omine kokemuksineen journalistit Janne Flinkkilä ja Tuomo Lappalainen.\nKoulutuksen järjestävät yhteistyössä Helsingin Seudun Journalistit\, Suomen freelance-journalistit ja Journalistiliitto. Varaa paikkasi maksuttomaan koulutukseen pian!\n 
LOCATION:Keskustakirjasto Oodi, Kuutio (2. krs)
URL:http://tapahtuma.hsj.fi/event/4A3Wg
END:VEVENT
END:VCALENDAR
