BEGIN:VCALENDAR
METHOD:PUBLISH
VERSION:2.0
PRODID:-//Eventilla iCal Syndication//NONSGML Liana//EN
BEGIN:VEVENT
UID:4A3gp@eventilla.com
DTSTAMP:20201130T150000Z
DTSTART:20201130T150000Z
DTEND:20201130T180000Z
SUMMARY:Historian jännät naiset\, Maria Pettersson-kirjailijatapaaminen SIIRTYY
DESCRIPTION:Maria Pettersson:\nHistorian jännät naiset\nMa 30.11. klo 17. Oodi\, Kino Regina\nTule kuulemaan ja tapaamaan Maria Petterssonia\, kiehtovien naiskohtaloiden kokoajaa\, Historian jännät naiset-kirjan kirjoittajaa. \n \nTilaisuudessa Maria Pettersson kertoo muun muassa:\n\nMiksi hän innostui naisten historiasta.\nKuinka hän löysi tutkimustyönsä myötä uskomattomia tarinoita menneiltä ajoilta. \nMiten historialisten naisten tarinat valikoituivat ja muotoutuivat kirjaksi?\nKuka jännistä naisista kiehtoo eniten kirjailijaa itseään?\nMikä on Maria Petterssonin omista seikkailuista jännin?\n\n \n\nJournalisti-lehden päätoimittaja\, historiaharrastaja Maria Pettersson on oman aikansa jännä nainen\, jonka elämästä ei seikkailuja puutu. \n \nTilaisuudesta saa ostaa Historian jännät naiset-kirjan vaikkapa pukinkonttiin. \nTapahtuma toteutetaan turvallisuudesta huolehtien tilavassa Oodin Kino Reginassa. Turvavälit pidetään reiluina ja tilaisuudessa käytetään maskeja. \nTilaisuus on yleisölle avoin\, siksi siihen ei voi ilmoittautua ennakkoon! \nTule hyvissä ajoin paikalle\, jotta varmistat istuimesi salissa. 
LOCATION:Keskustakirjasto Oodi\, Töölönlahdenkatu 4\, 00100\, Helsinki
URL:http://tapahtuma.hsj.fi/event/4A3gp
END:VEVENT
END:VCALENDAR
