BEGIN:VCALENDAR
METHOD:PUBLISH
VERSION:2.0
PRODID:-//Eventilla iCal Syndication//NONSGML Liana//EN
BEGIN:VEVENT
UID:55KN4@eventilla.com
DTSTAMP:20220516T140000Z
DTSTART:20220516T140000Z
DTEND:20220516T160000Z
SUMMARY:Huoltovarmuuskeskus opintokäynti
DESCRIPTION:Opintokäynti Huoltovarmuuskeskukseen\nmaanantaina 16.5. klo 17.00–19.30\nAleksanterinkatu 48 A\, Helsinki\n \nHuoltovarmuuden rooli yhteiskunnassa on kasvanut viime vuosien aikana. Asiaan ovat vaikuttaneet niin yli kaksi vuotta kestänyt pandemia\, Ukrainan sota kuin Suomessa tänä keväänä käynnissä olleet monet lakot. Vaikutukset näkyvät mm. toimitusajoissa\, kustannuksissa ja saatavuudessa.\nHuoltovarmuuteen kohdentuvat uhkat ja riskit ovat moninaisia ja niiden toteutumisen todennäköisyys on kasvanut. Suomalainen yhteiskunta on kuitenkin perustuksiltaan vahva.\n \nOhjelmassa\n\nToimitusjohtaja Janne Känkänen: Huoltovarmuus muuttuneessa toimintaympäristössä\nValmiusasiamies Satu Hulkkonen: Toimintavarma myymäläverkosto -projekti osana päivittäistavarahuollon varautumista\nEmäntänä viestintäpäällikkö Riitta Väkeväinen\nTarjolla kahvia ja suolapalaa\n\n \nTervetuloa vierailulle Huoltovarmuuskeskukseen 16.5. klo 17-19. Osoite Aleksanterinkatu 48 A. Ota hissi 6. kerrokseen ja portaita vielä yksi kerros ylöspäin.
LOCATION:Huoltovarmuuskeskus\, Aleksanterinkatu 48 A\, 00100\, Helsinki
URL:http://tapahtuma.hsj.fi/event/55KN4
END:VEVENT
END:VCALENDAR
