BEGIN:VCALENDAR
METHOD:PUBLISH
VERSION:2.0
PRODID:-//Eventilla iCal Syndication//NONSGML Liana//EN
BEGIN:VEVENT
UID:55KN8@eventilla.com
DTSTAMP:20221012T160000Z
DTSTART:20221012T160000Z
DTEND:20221012T200000Z
SUMMARY:Viestijöiden ilta
DESCRIPTION:Viestijöiden ilta\nkeskiviikkona 12.10. kello 16.00–20.00 Sokos Hotel Presidentissä\nIlmoittautuminen alkaa keskiviikkona 31.8. kello 14.\nJournalistiliiton jäsenpohja on yhä moninaisempi. Tiedonvälityksen ytimessä työskentelevät paitsi journalistit myös viestijät. Monet jäsenemme edustavat molempia ammattikuntia. Viestijöiden illassa pohditaan niin muuttuvaa työelämää ja sen vaatimuksia viestijöille kuin viestijöiden asemaa Journalistiliitossa.\nTule kuulemaan ja tapaamaan alan ammattilaisia ja kollegoita\, keskustelemaan ja vaihtamaan ideoita. Ilta alkaa yhteisellä ruokailulla ja virvokkeilla. Tilaisuus on osallistujille maksuton.\nTervetuloa verkostoitumaan!\n--\nIllan puhujavieraaksi saamme todellisen viestintävaikuttajan\, filosofian tohtorin & dosentin Elina Melginin. Viimeiset 17 vuotta Melgin on paneutunut viestintäalan edistämiseen ProCom ry:n toimitusjohtajana. Tästä syksystä lähtien hän toimii vanhempana asiantuntijana strategiseen mainetutkimukseen perehtyneessä T-Mediassa. Tilaisuudessamme Melgin alustaa viestintäalan\, median ja työelämän muutoksista.\n Elina Melginin kuva: Sam Jamsen\n--\nTärkeässä osassa iltaa on yhteinen keskustelu\, jonka tavoitteena on viestijöiden aseman parantaminen Journalistiliitossa. Liiton puheenjohtaja Hanne Aho avaa näkemyksiään viestijöiden Journalistiliitosta. Mukana keskustelemassa ovat myös Journalistiliiton palvelujohtaja Simon Huldén ja koulutuspäällikkö Nina Porra.\n--\nMikä on sinun mielestäsi viestijän osa Journalistiliitossa? Miten viestijöiden edunvalvonta tulisi järjestää? Onko liiton ja yhdistysten koulutustarjonta ajan tasalla? Missä viestinnän jäsenhankintaa tulisi tehdä? Kuinka teemme palveluistamme kutsuvampia viestinnän ammattilaisille myös tulevaisuudessa? Pohdimme näitä aiheita ryhmissä ja yhdessä.\n--\nViestijöiden illan järjestävät Helsingin Seudun Journalistit ja Suomen freelance-journalistit\, joille Journalistiliiton jäsenistä koostuva valtuusto on antanut tehtäväksi tutkia viestijöiden asemaa liitossa.\nIllan yhtenä tarkoituksena on koota yhteen Journalistiliiton viestijäjäseniä ja herättää keskustelua\, jonka pohjalta arvioidaan liiton ja yhdistysten palveluita viestijöille ja pohditaan tulevia toimenpiteitä.\n--\nViestijöiden ilta on tarkoitettu niin työsuhteisille kuin freelancer-viestijöille\, viestintää osittain tekeville kuin viestintäalaa opiskeleville Journalistiliiton jäsenille.\nPaikkoja iltaan on 30\, joten varaa omasi pian. Vaikka paikat täyttyisivät\, kannattaa ilmoittautua jonoon\, sillä vapautuneita paikkoja täytetään jonotusjärjestyksessä. Ilmoittautumisen yhteydessä annetaan myös oma jäsenyhdistys ja ruokavalio.\nSuomen Journalistiliitto on myös viestijöiden ammattiliitto. Tervetuloa!\nOhjelma\n\n16.00 Iltapalabuffet\n16.30 Tervetuloa!\n16.45 Elina Melgin: Viestintä\, media ja muuttuva työelämä\n17.30 Hanne Aho: Viestijöiden Journalistiliitto\n17.45 Työpajat ja keskustelua\n19.30 Yhteenveto\n20.00 Ilta päättyy.\n\nTiedustelut:\nJohanna Sillanpää\, toiminnanjohtaja\, HSJ ry\, johanna.sillanpaa@hsj.fi\nAnna-Sofia Nieminen\, va. toiminnanjohtaja\, SFJ ry\, anna-sofia.nieminen@freet.fi
LOCATION:Original Sokos Hotel Presidentti\, Eteläinen Rautatiekatu 4\,
 00100\, Helsinki
URL:http://tapahtuma.hsj.fi/event/55KN8
END:VEVENT
END:VCALENDAR
