BEGIN:VCALENDAR
METHOD:PUBLISH
VERSION:2.0
PRODID:-//Eventilla iCal Syndication//NONSGML Liana//EN
BEGIN:VEVENT
UID:55Kz4@eventilla.com
DTSTAMP:20201007T140000Z
DTSTART:20201007T140000Z
DTEND:20201007T160000Z
SUMMARY:Tilastokeskus journalistin tietolähteenä
DESCRIPTION:Tilastokeskus journalistin tietolähteenä\nTULE TUTUSTUMAAN TIETOKESKUKSEN TIETOSISÄLTÖIHIN JA PALVELUIHIN JOURNALISTIN APUNA!\n\nKeskiviikkona 7.10. Teams-webinaari klo 17-19\n\nVuonna 1865 perustettu Tilastokeskus on ainoa suomalainen viranomainen\, joka on perustettu tilastointia varten. Se tuottaa valtaosan Suomen virallisista tilastoista ja on tilastoalan merkittävä kansainvälinen toimija. Tilastokeskuksen palveluksessa on noin 800 eri alojen asiantuntijaa Helsingissä ja haastattelijoina eri puolilla maata.\nWebinaarin ohjelma:\n\nTilastokeskuksen esittely\, viestintäjohtaja Hanna Ikäheimo\nViestintä valloittaa\, viestintäpäällikkö Mervi Ukkonen\nMistä löytyy\, miten löytyy ja miten käytän – informaatikot apunasi\, tietoasiantuntija Heli Korhonen\nTietokantojen käytön salaisuudet\, tietopalvelusuunnittelija Hans Baumgartner\n\nWebinaariin mahtuu 50 osanottajaa. Koulutus on maksuton.\nJos et voikaan osallistua\, ilmoita peruutuksesta hsj.koulutus@gmail.com\, jotta voimme hankkia tilalle toisen osanottajan.
LOCATION:Webinaari\, Teams-webinaari
URL:http://tapahtuma.hsj.fi/event/55Kz4
END:VEVENT
END:VCALENDAR
