BEGIN:VCALENDAR
METHOD:PUBLISH
VERSION:2.0
PRODID:-//Eventilla iCal Syndication//NONSGML Liana//EN
BEGIN:VEVENT
UID:6PWDg@eventilla.com
DTSTAMP:20201116T150000Z
DTSTART:20201116T150000Z
DTEND:20201116T170000Z
SUMMARY:Merete Mazzarella-kirjailijatapaaminen
DESCRIPTION:SJ:n kirjailijakohtaamisessa \nMerete Mazzarella\nmaanantaina 16.11. kello 17 - 19\nLIVE STREAM: https://www.facebook.com/hsj.fi/\n\nMerete Mazzarellan\, (fil.tri\, kirjailija\, kolumnisti ja kriitikko\, pohjoismaisen kirjallisuuden professori emerita\, s. 1945) ajan ilmiöihin pureutuvat teokset ovat herättäneet poikkeuksetta vilkasta keskustelua.\nLiki 30 teoksessaan hän on käsitellyt perhettä\, vanhuutta\, terveyttä\, yhteiskunnan polarisaatiota\, ilmastokriisiä ja monia muita nykyajan ilmiöitä. Kirjallisesta tuotannostaan hän on saanut useita palkintoja.\nMinkälainen on tämä kirjailija\, jonka kirjoitus on analyyttistä ja tyyliltään loistavaa\, ja joka ei karta teoksissaan vaikeitakaan asioita?\nMistä kertoo hänen elämäkertaromaaninsa Alma - Edelläkävijän tarina (2018)?\nHelsingin Sanomien kulttuuritoimittaja Suvi Ahola haastattelee Merete Mazzarellaa sekä kirjailijana että hänen teoksestaan Alma. Yleisö saa esittää kirjailijalle ennakkokysymyksiä. \nTilaisuus on kaksikielinen:Mazzarella puhuu ruotsia\, mutta ennakkokysymyksiä voi esittää myös suomeksi.Kirja alennettuun hintaan:Kirjailijaliltaan osallistujat saavat ostaa Alman Werner & Jarl -kirjakaupasta 15 euron hintaan. Ilmoita kassalla koodi ”HSJ lukupiiri”.\nTervetuloa!
LOCATION:https://www.facebook.com/hsj.fi/
URL:http://tapahtuma.hsj.fi/event/6PWDg
END:VEVENT
END:VCALENDAR
