BEGIN:VCALENDAR
METHOD:PUBLISH
VERSION:2.0
PRODID:-//Eventilla iCal Syndication//NONSGML Liana//EN
BEGIN:VEVENT
UID:6PWN7@eventilla.com
DTSTAMP:20230404T120000Z
DTSTART:20230404T120000Z
DTEND:20230404T133000Z
SUMMARY:Webinaari: Menesty viestintäyrittäjänä
DESCRIPTION:Webinaari: Menesty ja kehitä toimintaa viestintäyrittäjänä \nTiistaina 4.4. kello 15–16.30\nKiinnostaako viestintä tai teetkö jo viestinnän töitä? Tule webinaariin kuulemaan\, miten menestyä ja kehittää toimintaa viestintäyrittäjänä! Helsingin Seudun Journalistien\, Suomen freelance-journalistien ja Journalistiliiton yhteinen webinaari on maksuton ja tarkoitettu liiton jäsenille.\nAsiakaspaijaajaksikin itseään tituleeraava Sami Turunen kertoo matkastaan menestyväksi viestintäyrittäjäksi. Miten hän on luonut toimeentulonsa? Entä miten pitää huolta asiakassuhteista? Turunen perusti vuonna 2017 viestintäyritys Arvosanan ja vuonna 2019 tuotantoyhtiö Vimman. Ennen yrittäjäksi ryhtymistä Turunen on työskennellyt niin journalismin kuin viestinnän parissa.\nMeditan toimitusjohtaja ja vanhempi viestinnän neuvonantaja Tiinu Wuolio puhuu siitä\, miten viestintätoimiston tarjontaa kehitetään ajan vaateiden mukaan. Miten esimerkiksi vastuullisuusviestinnän palvelut tulivat mukaan? Miten hinnoitella palveluja? Journalistitaustainen Wuolio oli vuonna 1997 perustamassa Meditaa\, jossa on nyt kolme yrittäjää ja kuusi työntekijää.\nKuulemme webinaarissa Turuselta ja Wuoliolta noin puolen tunnin puheenvuorot\, joiden jälkeen on varattu aikaa kysymyksille ja keskustelulle. \nIlmoittaudu mukaan tästä linkistä. Ilmoittautumisen jälkeen saat ennen tilaisuutta osallistumislinkin sähköpostiisi. Tilaisuus järjestetään Zoom-sovelluksessa. Ilmoittautuminen päättyy keskiviikkona 29.3.2023 kello 23.30. Tervetuloa!\nLisätietoja: SFJ:n va. toiminnanjohtaja Anna-Sofia Nieminen\, yhdistys [at] freet.fi
LOCATION:Webinaari
URL:http://tapahtuma.hsj.fi/event/6PWN7
END:VEVENT
END:VCALENDAR
