BEGIN:VCALENDAR
METHOD:PUBLISH
VERSION:2.0
PRODID:-//Eventilla iCal Syndication//NONSGML Liana//EN
BEGIN:VEVENT
UID:6PWe7@eventilla.com
DTSTAMP:20190404T150000Z
DTSTART:20190404T150000Z
DTEND:20190404T183000Z
SUMMARY:Naisten jääkiekon MM-kisat
DESCRIPTION:Jäsenistön pyynnöstä! * Myös perheenjäsenet tervetulleita! * Päivälipulla useampi ottelu.Lähdetäänks lätkämatsiin...Naisten jääkiekon MM-kisojen avauspäivään\ntorstaina 4.4. kello 18 alkaen\nEspoo Metro Areenassa\, Urheilupuistontie 3\, 02200 EspooOhjelmassa (aikataulu alustava\, vahvistuu myöhemmin)\n\n\nKello 18: HSJ:n ryhmä kokoontuu pääaulassa (pääsisäänkäynnin yhteydessä)\, jossa kuulemme lyhyen kisojen esittelyn\nKello 19: kisojen avausseremoniat\nKello 19.30: kiekko kilahtaa jäähän\, Suomi - USA -jääkiekko-ottelu alkaa.HSJ on varannut tilaisuuteen 100 lippua.Yhdistyksen sponsoroiman lipun hinta: 10 euroa. Ilmoittaudu oitis\, ja viimeistään 18.2. ja varmista paikkasi tähän historialliseen matsiin!  \n\n\nLisätietoja:\n\nJääkiekon naisten MM – taustaa ja tilastoja\nMetro Areenan infoa\n
LOCATION:Espoon Metro Areena\, Urheilupuistontie 3\, 02120\, Espoo
URL:http://tapahtuma.hsj.fi/event/6PWe7
END:VEVENT
END:VCALENDAR
