BEGIN:VCALENDAR
METHOD:PUBLISH
VERSION:2.0
PRODID:-//Eventilla iCal Syndication//NONSGML Liana//EN
BEGIN:VEVENT
UID:6PWrg@eventilla.com
DTSTAMP:20211011T140000Z
DTSTART:20211011T140000Z
DTEND:20211011T170000Z
SUMMARY:Kielenhuolto ymmärrettävät lauseet
DESCRIPTION:Kirjoita ymmärrettäviä lauseita ja virkkeitä\nmaanantai 11.10. klo 17–20Original Sokos Hotel Presidentti\, Eteläinen Rautatiekatu 4\, Helsinki\n \nMiten kirjoittaa ymmärrettäviä lauseita ja virkkeitä? Millaista tekstiä lukija haluaisi eteensä? Mikä taas saa lopettamaan lukemisen?\nKirjoittajille ja editoreille suunnatussa kiekenhuoltokoulutuksessa käymme läpi\, millaiset lauserakenteet helpottavat lukijan urakkaa ja mitä taas kannattaa välttää. Lisäksi puhumme suomen sanajärjestyksestä\, juonenkuljetuksesta ja määriteketjuista. Käytännönläheisessä koulutuksessa keskitytään mediateksteihin. Luvassa on luentoa\, keskustelua ja  tehtäviä.\nVoit lähettää etukäteen kysymyksiä ja esimerkkejä kouluttajalle.\n \nKoulutuksessa mm. käsitellään seuraavia asioita:\n\nLauseenvastike vai sivulause?\nSanajärjestyksestä sananen\nMalttia määritteisiin\nKuljeta juonta kytkentäilmauksilla\nLyhyt lause on parempi kuin pitkä\n\nKouluttajana toimii HSJ:n suosituista kielikoulutuksista tuttu kielenhuoltaja\, FM Riitta Hyvärinen. Hän on työskennellyt Kielitoimiston kouluttajana 20 vuotta\, erikoistunut journalistiseen kieleen ja valmentaa säännöllisesti mm. Ylen journalisteja.\nTilaisuuteen otetaan 40 osallistujaa. Jos kurssi täyttyy ja jonottajia tulee riittävästi\, koulutus uusitaan.\nTämä koulutus on maksullinen:\n\n 25 euroa työsuhteiset\, freelancerit\, eläkeläiset\n 10 euroa työttömät ja opiskelijat\n\nLippu valitaan ilmoittautumisen yhteydessä. Maksua varten tarvitset pankkitunnukset tai puhelimen mobiilipankkisovelluksen.\nHintaan sisältyy ennen koulutusta tarjottava kahvi/tee ja sämpylä. Käytämme tilaisuudessa maskia ja käsidesiä.\nHSJ tukee jäsentensä osallistumista maksullisiin koulutuksiin ja tapahtumiin vähintään 40 prosentilla. Muistathan\, että työnantajalta voi tiedustella osallistumista ammatillisen koulutuksen kustannuksiin.\nTervetuloa!
LOCATION:Sokos Hotel Presidentti\, Eteläinen Rautatiekatu 4\, 00100\,
 Helsinki
URL:http://tapahtuma.hsj.fi/event/6PWrg
END:VEVENT
END:VCALENDAR
