BEGIN:VCALENDAR
METHOD:PUBLISH
VERSION:2.0
PRODID:-//Eventilla iCal Syndication//NONSGML Liana//EN
BEGIN:VEVENT
UID:7eZEq@eventilla.com
DTSTAMP:20200211T150000Z
DTSTART:20200211T150000Z
DTEND:20200211T170000Z
SUMMARY:Antiikkia ja maalaustaidetta\, Vierailu Reitzin museoon
DESCRIPTION:Opastettu kierros Reizin keräilykalleuksissa\nAntiikkia ja maalaustaiteen historiaa\n\n\n6.2. kello 17 - 19 \n\n\n11.2. kello 17 - 19 (varapäivä\, jos tulijoita riittävästi)\n\n\nReizin kotimuseossa\, Apollonkatu 23 B 64\, 6. kerros\, 00100 Helsinki\nHelsingin merkittävimpiin rakennuttajiin kuulunut Lauri Reitz (1893–1959) keräsi huomattavan taide- ja antiikkiesinekokoelman\, joka hänen leskensä Maria Reitzin (1891–1971) testamenttimääräyksellä avattiin taidemuseona Reitzin perheen entiseen kotiin vuonna 1972.\nPostimerkeistä ja vanhoista rahoista keräilynsä aloittanut Reiz laajensi harrastustaan kokoelmien kokoelmaksi. Suomalaisen maalaustaiteen historian merkkiteosten lisäksi siihen karttui muun muassa arvoposliinia\, kelloja\, antiikkiantiikkihopeaa ja -huonekaluja.\nReizin museo sijaitsee vuonna 1938 valmistuneessa Reitzin omaksi kodikseen ja toimistokseen rakennuttamassa kerrostalossa.\nOpastettu kierros kestää hieman yli tunnin.\nRyhmän koko: enintään 25 henkeä.Ilmoittaudu!\nTästä lisää Reizin historiasta kiinnostuneille!
LOCATION:Reizin kotimuseo\, Apollonkatu 23 B 64, 6. kerros\, 00100\,
 Helsinki
URL:http://tapahtuma.hsj.fi/event/7eZEq
END:VEVENT
END:VCALENDAR
