BEGIN:VCALENDAR
METHOD:PUBLISH
VERSION:2.0
PRODID:-//Eventilla iCal Syndication//NONSGML Liana//EN
BEGIN:VEVENT
UID:8Ep5R@eventilla.com
DTSTAMP:20250212T150000Z
DTSTART:20250212T150000Z
DTEND:20250212T180000Z
SUMMARY:Lyhytvideon ABC
DESCRIPTION:Jenni Smithin kuva: Iltalehti\nLyhytvideon ABC\nkeskiviikkona 12.2. klo 17–20Journalistiliiton toimisto\, Ympyrätalo\, Siltasaarenkatu 18 A\, 7. krs\, Helsinki\nLyhytvideot\, eli muutamien kymmenien sekuntien mittaiset pystyvideot\, ovat tulleet jäädäkseen. Sosiaalisen median kautta tutuksi tullutta videoformaattia on alettu valjastaa myös journalististen medioiden ja viestinnän käyttöön.\nKestoltaan rajatun lyhytvideon avulla on helppo herättää huomiota ja puhutella katsojaa henkilökohtaisesti. Hyvin tiivistetyn ja visuaalisesti kiinnostavan sisällön tuottaminen ei kuitenkaan ole itsestäänselvää.\nMillainen lyhytvideo kiinnostaa katsojia? Mitä välineitä ja sovelluksia kuvaamiseen\, äänittämiseen ja leikkaamiseen tarvitaan? Entä miten ja missä lyhytvideoita kannattaisi julkaista? Tule HSJ:n koulutukseen ottamaan asiasta selvää!\nKouluttajana toimii Iltalehden sosiaalisen median tuottaja Jenni Smith. Hän vetää palkittua IL-palat-tiimiä\, joka tuottaa lyhyitä pystyvideoita sekä Iltalehden omalle sivustolle että sosiaaliseen mediaan. Keväällä 2023 lanseerattu IL-palat tavoittaa jo yli miljoona käyttäjää lähes viikoittain.\nIllan aikana tutustumme lyhytvideon formaattiin\, analysoimme toimivia sisältöjä ja otamme haltuun käsikirjoittamisen perusteet. Pääset harjoittelemaan videon kuvaamista ja äänittämistä sekä valmiin materiaalin leikkaamista ja julkaisemista omalla puhelimellasi. Lisäksi perehdymme erilaisiin julkaisualustoihin ja niiden toimintalogiikkaan.\nKoulutuksen jälkeen hallitset lyhytvideon kuvaamisen ja äänittämisen perusteet\, osaat editoida ja julkaista oman videosi ja hahmotat millainen sisältö toimii parhaiten somessa.\nKoulutus ei edellytä aiempaa kokemusta videokuvaamisesta tai -editoinnista. Harjoituksia varten tarvitset oman älypuhelimen sekä riittävästi akkua ja tallennustilaa videoiden kuvaamista varten.\nEditointiin käytämme näitä ilmaisia puhelinsovelluksia: Instagram ja Capcut. Lataa sovellukset ja kokeile niiden käyttöä jo ennen koulutusta\, niin pääset heti kiinni harjoituksiin. Lisäksi kouluttaja demonstroi videon tekstittämistä maksullisella Veed-sovelluksella\, mutta sen hankkiminen ei ole osallistumisen kannalta välttämätöntä.\nKoulutukseen mahtuu mukaan 30 HSJ:läistä ja se on maksullinen:\n\n 30 euroa työsuhteiset\, freelancerit\, eläkeläiset\n 15 euroa työttömät ja opiskelijat\n\nLippu valitaan ilmoittautumisen yhteydessä. Maksua varten tarvitset pankkitunnukset tai puhelimen mobiilipankkisovelluksen.\nHintaan sisältyy ennen koulutusta tarjottava kahvi/tee ja sämpylä.\nHSJ tukee jäsentensä osallistumista maksullisiin koulutuksiin ja tapahtumiin vähintään 40 prosentilla. Muistathan\, että työnantajalta voi tiedustella osallistumista ammatillisen koulutuksen kustannuksiin.\nMukaan mahtuu 30 osallistujaa. Ilmoittaudu viimeistään 5.2. Tervetuloa!
LOCATION:Journalistiliitto\, Siltasaarenkatu 18 A, 7. krs\, 00530\,
 Helsinki\, Suomi
URL:http://tapahtuma.hsj.fi/lyhytvideo
END:VEVENT
END:VCALENDAR
