BEGIN:VCALENDAR
METHOD:PUBLISH
VERSION:2.0
PRODID:-//Eventilla iCal Syndication//NONSGML Liana//EN
BEGIN:VEVENT
UID:8a302@eventilla.com
DTSTAMP:20240611T140000Z
DTSTART:20240611T140000Z
DTEND:20240611T180000Z
SUMMARY:Journalistiliiton kesätyöntekijätreffit
DESCRIPTION:Journalistiliiton kesätyöntekijätreffit\ntiistaina 11.6. klo 17–21 Bottan Tina-klubi\, Museokatu 10\, Helsinki\nHyvä media-alan kesätyöläinen tai harjoittelija\, haluamme tavata sinut! Olet lämpimästi tervetullut Journalistiliiton kesätyöntekijätreffeille Bottan Tina-klubille.\nRento illanviettomme ravitsee mieltä ja kupua. Vaihda kokemuksia kollegojen kanssa\, ota haltuun omat oikeutesi kesätyösuhteen alussa ja kuule\, mitä illan vieraamme\, toimittaja Ida Erämaa kertoo uransa alusta.\nErämaa työskenteli Iltalehden kesätoimittajana vuonna 2023. Hän joutui maalituskampanjan kohteeksi kirjoitettuaan kolumnin perussuomalaisten suhteesta mediaan. Mitä kohun keskellä oikein tapahtui\, ja mitä siitä seurasi? Ida Erämaata haastattelee Journalistiliiton opiskelijalähettiläs Satu Hurme.\nJournalistiliiton juristi Sanna Nikula kertoo\, mitä kesätyösuhteen alkaessa on syytä ottaa huomioon. Tietoiskun jälkeen avautuvalla juristin klinikalla sinulla on lyömätön mahdollisuus kysyä luottamuksellisesti esimerkiksi alan työehtoihin\, tekijänoikeuksiin ja työsopimuksiin liittyvistä asioista. Tule jututtamaan myös Journalistiliiton eri jäsenyhdistysten tyyppejä – alan ammattijärjestönä olemme paikalla sinua varten.\nIllan menussa on pizzaa\, tarjoamme myös ensimmäisen juoman. Baari on auki kello yhdeksään saakka\, jolloin tapahtuma päättyy. Tilaisuus on maksuton ja avoin kaikille media-alan kesätyöntekijöille ja harjoittelijoille. Sinun ei tarvitse olla Journalistiliiton jäsen osallistuaksesi tapahtumaan.\nOta kaverisi mukaan ja varaa paikkasi pian! Mukaan mahtuu 50 osallistujaa. Ilmoittautuminen päättyy 9.6.\nTunnelmallinen Tina-klubi sijaitsee ravintola Bottan kolmannessa kerroksessa. Museokadun puolelta klubille noustaan portaita pitkin. Hissi löytyy Töölönkadun puoleiselta sisäänkäynniltä\, josta opasteet perille.\n \nIllan ohjelma:\n17.00 Tilaisuus alkaa\, tarjolla syötävää ja juotavaa.\n17.30 Liiton ja yhdistysten esittely sekä esittäytymiskierros.\n18.00 Toimittaja Ida Erämaata haastattelee Journalistiliiton opiskelijalähettiläs Satu Hurme.\n19.00 Tärkeimmät vinkit kesätyösuhteeseen. Journalistiliiton juristi Sanna Nikula kertoo.\n19.20 Vapaata seurustelua\, juristin klinikka auki kello 20 saakka.\n21.00 Tilaisuus päättyy.\n \n\nIllanvieton järjestävät yhteistyössä Journalistiliitto\, Helsingin Seudun Journalistit HSJ ry\, Radio- ja televisiotoimittajien liitto RTTL ry ja Suomen freelance-journalistit SFJ ry.Journalistiliitto neuvottelee media- ja kustannusalan työehtosopimukset\, ajaa freelancerien asemaa ja vaikuttaa aktiivisesti mediapolitiikkaan ja sananvapauskysymyksiin. Journalistiliiton jäsenenä kuulut aina myös johonkin liiton jäsenyhdistyksistä.\n
LOCATION:Bottan Tina-klubi\, Museokatu 10\, 00101\, Helsinki\, Suomi
URL:http://tapahtuma.hsj.fi/kesatyontekijatreffit
END:VEVENT
END:VCALENDAR
