BEGIN:VCALENDAR
METHOD:PUBLISH
VERSION:2.0
PRODID:-//Eventilla iCal Syndication//NONSGML Liana//EN
BEGIN:VEVENT
UID:8aNDk@eventilla.com
DTSTAMP:20210301T150000Z
DTSTART:20210301T150000Z
DTEND:20210301T173000Z
SUMMARY:Miten hyvä haastattelu tehdään?
DESCRIPTION:Avoimesta kysymyksestä jatkokysymykseen:\nMiten hyvä haastattelu tehdään?\nMa 1.3. klo 17-19.30 webinaari\nHaastattelu on verraton tiedonhankintamuoto ja henkilöjutun perusta. Mutta miten haastattelun rajallisesta ajasta saa kaiken irti? Tunnettu toimittaja\, yhteiskuntatieteiden tohtori Olli Seuri ohjaa meidät haastattelun ytimeen tuoreen teoksensa Avoin kysymys - Haastattelun käsikirja pohjalta.\n\nKurssilta saat lisäeväitä ja ymmärrystä haastattelemisesta toimittajalle tärkeänä taitona.\nKurssi auttaa osallistujaa hahmottamaan haastattelemisen kokonaisuutta\, jonka eri elementit vaikuttavat lopputulokseen.\nMiksi ja millä tavoin journalistinen haastattelu on omanlaisensa vuorovaikutustilanne?\nMiksi avoin kysymys on niin tärkeä?\nKurssi koostuu kahden tunnin luennosta ja puolen tunnin keskustelusta.\n\nIlmoittaudu mukaan!\n\nKurssilaiset saavat hankkia Olli Seurin kirjan Avoin kysymys - Haastattelun käsikirja Vastapainon verkkokaupasta -35 % alennuksella joko paperi-\, ääni- tai e-kirjana. Kurssille ilmoittautuneet saavat sähköpostitse ostolinkin\, jonka avulla voivat halutessaan tilata teoksen.
LOCATION:Teams-webinaari
URL:http://tapahtuma.hsj.fi/event/8aNDk
END:VEVENT
END:VCALENDAR
