BEGIN:VCALENDAR
METHOD:PUBLISH
VERSION:2.0
PRODID:-//Eventilla iCal Syndication//NONSGML Liana//EN
BEGIN:VEVENT
UID:9k2dp@eventilla.com
DTSTAMP:20230309T160000Z
DTSTART:20230309T160000Z
DTEND:20230309T183000Z
SUMMARY:Elokuvailta All the Beauty and the Bloodshed
DESCRIPTION:Elokuvailta All the Beauty and the Bloodshed ja Anna-Sofia Bernerin alustus\ntorstaina 9.3. kello 18.00\nTule Kino Engeliin katsomaan Laura Poitrasin palkittu dokumenttielokuva All the Beauty and the Bloodshed kollegojen kanssa! Näytös Engel 2 -salissa on yksityisnäytös HSJ:n jäsenille\, ja yhdistys tarjoaa sen.\nElokuva käsittelee taiteilija ja valokuvaaja Nan Goldinin taidetta ja aktivismia Yhdysvaltain opioidikriisissä. Ennen elokuvaa Helsingin Sanomien toimittaja Anna-Sofia Berner alustaa opioidikriisistä. Hän seurasi sitä aitiopaikalta Hesarin Washingtonin-kirjeenvaihtajana 2019 – 2021.\nNan Goldin on kuuluisa etenkin laajaa ystäväpiiriään kuvaavista muotokuvistaan. Hänen teoksiaan on esillä maailman merkittävimmissä taidemuseoissa. Itsekin opioidiriippuvuuden koettuaan Goldin ryhtyi repivään taisteluun sen puolesta\, ettei hengenvaarallisilla lääkkeillä isot rahat tienannut Sacklerin perhe voisi enää kiillottaa kilpeään toimimalla museoiden mesenaattina.\nLaura Poitras tunnetaan etenkin Edward Snowdenista kertovasta dokumentistaan Citizenfour (2014)\, josta hän sai Oscarin.\nKino Engel sijaitsee Senaantintorin laidalla\, osoitteessa Sofiankatu 4\, 00170 Helsinki. Anna-Sofia Bernerin alustukseen ja yleisön kysymyksiin on varattu yhteensä puoli tuntia\, ja elokuvan kesto on 1 h 53 min. Koko tilaisuuden kesto on noin 2\,5 h.\nTulethan paikalle ajoissa – aloitamme tilaisuuden Engel 2:ssa klo 18!
LOCATION:Kino Engel\, Sofiankatu 4\, 00170\, Helsinki
URL:http://tapahtuma.hsj.fi/event/9k2dp
END:VEVENT
END:VCALENDAR
