BEGIN:VCALENDAR
METHOD:PUBLISH
VERSION:2.0
PRODID:-//Eventilla iCal Syndication//NONSGML Liana//EN
BEGIN:VEVENT
UID:9k2pp@eventilla.com
DTSTAMP:20190424T140000Z
DTSTART:20190424T140000Z
DTEND:20190424T160000Z
SUMMARY:Journalistista viestijäksi
DESCRIPTION:Oletko harkinnut uran vaihdosta?\nJournalistista viestijäksi!\n\nkeskiviikkona 24.4. kello 17-19 (TILAA ON)\n\nkeskiviikkona 10.4. kello 17-19 (TÄYSI)\n\n\nHotelli Presidentissä\, Eteläinen Rautatiekatu 4\, Helsinki.\nTule kuulemaan kokeneen journalistin kokemuksia ja näkemyksiä\, miltä tuntuu vaihtaa journalismi viestintään!  \nKoulutuksen tavoitteena on tarjota vilkaisu viestijän työn todellisuuteen ja kertoa käytännön kokemuksia siirtymisestä journalistista viestijäksi. Koulutus koostuu alustuksesta ja yhteisestä keskustelusta seuraavista teemoista:\n\n\nMikä yhdistää tai erottaa journalistia ja viestijää ammattilaisina eli millä sisäisellä motiivilla toimitaan?\n\n\nMillaiset ovat journalistin ja viestijän etiikka ja arvot?\n\n\nMissä erilaisissa rooleissa viestijä toimii ja mitä se edellyttää – esim. tiedottaja\, sisällön tuottaja\, viestintäjohtaja\, konsultti. Mille portaalle kannattaa hypätä?\n\n\nViestijänä yrityksessä\, organisaatiossa tai viestintätoimistossa – pohdintaa erilaisista rooleista.\n\n\nMillaisia ovat hyvän journalistin ja hyvän viestijän ominaisuudet? Mitkä journalistin taidot pääsevät erityisesti kukoistamaan viestinnän töissä ja mitkä osaamisalueet voivat tuntua vierailta?\n\n\nMillaista viestinnän koulutusta olisi hyvä hankkia? Mitä hyötyä siitä on?\n\n\nHinta: Koulutus on maksuton. Kouluttajana on Brunnen Communications -viestintätoimiston johtava konsultti Riitta Väkeväinen. Hän hyppäsi ensin Yleisradion politiikan toimittajan roolista Eläketurvakeskuksen viestintään. Tiedottajan ja yhteyspäällikön työn ohessa hän kouluttautui maisteriksi Jyväskylän yliopistosta pääaineenaan yhteisöviestintä.Kohta kolme vuotta sitten hän siirtyi viestintätoimisto Brunnenin palvelukseen. Hän on myös ollut Journalistiliiton aktiiveja ja toiminut liiton hallituksen jäsenenä. 
LOCATION:Hotelli Presidentti\, Eteläinen Rautatiekatu 4\, 00100\,
 Helsinki
URL:http://tapahtuma.hsj.fi/event/9k2pp
END:VEVENT
END:VCALENDAR
