BEGIN:VCALENDAR
METHOD:PUBLISH
VERSION:2.0
PRODID:-//Eventilla iCal Syndication//NONSGML Liana//EN
BEGIN:VEVENT
UID:AX4oG@eventilla.com
DTSTAMP:20260212T160000Z
DTSTART:20260212T160000Z
DTEND:20260212T180000Z
SUMMARY:SIIRTYNYT: HSJ:n talviuinti-ilta Uunisaaressa
DESCRIPTION:HSJ:N TALVIUINTI-ILTA ON SIIRTYNYT\, UUSI PÄIVÄMÄÄRÄ ON 12.2.! MIESTEN PAIKKOJA ON VAPAANA - TIEDUSTELE NIITÄ SUORAAN JOHANNALTA\nHSJ:n talviuinti-ilta Uunisaaressa\ntorstaina 12.2. klo 18-20\nSaareen pääsee talvisin Kaivopuiston rannasta Ehrenströmintieltä kulkevaa siltaa pitkin\n \nHSJ toteuttaa jäsentoiveita ja tutustuu tällä kertaa talviuintiin. Tule kokeilemaan\, miltä tuntuu pulahtaa tammikuiseen Itämereen! Lämmittelyä varten HSJ on varannut saaren saunat yksityiskäyttöönsä.\nTorstaina voit saapua\, uida ja saunoa omaan tahtiisi kello 18–20 välillä. Saunoista suurempi Iso-Uuni on varattu naisille\, Pikku-Uuni miehille. Mukaan mahtuu 20 naista ja 12 miestä. Molemmilla saunoilla on modernit pesutilat.\nSaaren uimarannan ja saunojen läheisyydestä löytyy uimalaituri\, jota on kätevä käyttää talviaikaan. Saunojen ja laiturin sijainnin löydät Uunisaaren kartasta.\nVarusteet\nMukaan tarvitset uima-asun. Kunnioitathan muita uimareita ja vilvoittelijoita: saunan ja pesutilan ulkopuolella ei liikuta ilman uima-asua tai pyyhettä. Pyyheliinat\, pefletit ja pesuaineet saamme saunoilta.\nTalviuinnista ja rannalla liikkumisesta mukavampia tekevät kosteutta kestävät ja pitäväpohjaiset uimakengät. Myös uimahanskat ja pipo helpottavat kylmään veteen totuttelua. Kylpytakki voi olla kiva ottaa mukaan.\nHinta\nSaunalipun hinta HSJ:n jäsenille on 12 euroa. Se sisältää pyyhkeet\, pefletit ja pesuaineet sekä alkoholittoman virvokejuoman\, jonka HSJ tarjoaa jäsenilleen saunalla. \nUunisaaren normaalihintainen saunalippu on 18 euroa eikä se sisällä pyyheliinaa tai virvoketta. \nHuomaathan\, että saunat ovat Uunisaaren ravintolan anniskelualuetta\, joille ei saa tuoda omia eväitä. Ravintolasta saa hakea virvokkeita ja purtavaa omaan piikkiin. Ravintola palvelee saunojen aukioloaikana.\nLämpimästi tervetuloa virkistäytymään\, rentoutumaan ja tapaamaan muita HSJ:n jäseniä! \nTapahtuman ehdot\n\nVaraa paikkasi perjantaihin 9.1. kello 16 mennessä. Myös jonoon ilmoittautuminen kannattaa vapautuvien paikkojen varalta\nEsteen sattuessa peru ilmoittautumisesi mahdollisimman nopeasti. Lähetä peruutuksesta tieto myös HSJ:n toimistoon: johanna.sillanpaa@hsj.fi\n10.1. alkaen osallistumismaksua ei hyvitetä kuin sairaustapauksissa (sairaustodistusta vastaan) tai jos tilalle saada toista osallistujaa. Lipun hinnasta pidätetään hallintomaksu 5 euroa. No-show'ta emme hyvitä\nUimataitoa vaaditaan jokaiselta osallistujalta\n\nSaapuminen\nUunisaari sijaitsee Helsingin Kaivopuiston eteläpuolella. Saareen pääsee talvisin Ehrenströmintieltä kulkevaa kävelyponttonisiltaa pitkin. \nSaapumisreittiä ja julkisia liikenneyhteyksiä voi katsoa HSL:n reittioppaasta.\nHSJ-höntsät\nHöntsissä tutustumme erilaisiin urheilulajeihin ja virkistysmahdollisuuksiin vailla tulostavoitteita. Tärkeintä on erilaisten lajien kokeilu ja yhdessä liikkuminen. Aiempaa harrastuneisuutta ei tarvita. Jokainen höntsäkerta on itsenäinen ja sille ilmoittaudutaan erikseen.\nKuva: Ravintola Uunisaari
LOCATION:Pohjoinen Uunisaari\, Helsinki\, Suomi
URL:http://tapahtuma.hsj.fi/uunisaaren_talviuinti
END:VEVENT
END:VCALENDAR
