BEGIN:VCALENDAR
METHOD:PUBLISH
VERSION:2.0
PRODID:-//Eventilla iCal Syndication//NONSGML Liana//EN
BEGIN:VEVENT
UID:AX57B@eventilla.com
DTSTAMP:20250306T134500Z
DTSTART:20250306T134500Z
DTEND:20250306T150000Z
SUMMARY:Vierailu Kuntaliittoon
DESCRIPTION:Vierailu Kuntaliittoon\ntorstaina 6.3. klo 15.45–17Kuntatalo\, Toinen linja 14\, Helsinki\nKuntavaalit lähestyvät! Äänestämällä vaikutetaan siihen\, ketkä päättävät arjen tärkeistä palveluista seuraavat neljä vuotta. Koulut\, päiväkodit\, liikuntapaikat\, puhdas juomavesi ja toimiva jätehuolto ovat esimerkkejä kuntien vastuulla olevista tehtävistä\, jotka näkyvät elämässämme päivittäin.\nKuntaliiton lanseeraama Onneksi on kunnat! -kampanja tuo näkyväksi kuntien merkityksen yhteiskunnassa ja arjessa. Mutta mitkä ovat kuntakentän kuumat aiheet juuri nyt? Millaista tutkittua tietoa Suomen kunnista ja kuntapäättäjistä on tarjolla? Mitä Kuntaliitto oikeastaan tekee\, ja millaisia kysymyksiä sen viestinnässä ratkotaan näin vaalien alla?\nToimitusjohtaja Minna Karhunen\, viestinnän asiantuntija Maija Ruoho\, johtava juristi ja työelämäprofessori Ida Sulin sekä tutkimuspäällikkö Marianne Pekola-Sjöblom johdattavat meidät Kuntaliiton ja kuntien ajankohtaisiin kysymyksiin. Saamme myös pikasukelluksen kuntavaalien teemoihin. Tilaisuuden lopussa on runsaasti aikaa kysymyksille ja keskustelulle.\nMinna Karhunen\, Maija Ruoho\, Ida Sulin ja Marianne Pekola-Sjöblom. kuvat: Kuntaliitto\nVierailulle mahtuu mukaan 30 HSJ:läistä ja se on jäsenille maksuton. Tilaisuudessa on tarjolla kahvia\, teetä ja smoothiet.\nIlmoittaudu viimeistään 2.3.\nLämpimästi tervetuloa!\n \n 
LOCATION:Kuntatalo\, Toinen linja 14\, 00530\, Helsinki\, Suomi
URL:http://tapahtuma.hsj.fi/kuntaliitto
END:VEVENT
END:VCALENDAR
