BEGIN:VCALENDAR
METHOD:PUBLISH
VERSION:2.0
PRODID:-//Eventilla iCal Syndication//NONSGML Liana//EN
BEGIN:VEVENT
UID:AeR3y@eventilla.com
DTSTAMP:20190423T140000Z
DTSTART:20190423T140000Z
DTEND:20190423T160000Z
SUMMARY:Salaisuuksien talo
DESCRIPTION:HSJ:n kulttuurikävelyt jatkuvatVehkeilyjen\, vakoilun ja salaisuuksien taloon\n\ntiistaina 23.4. (täysi)\n\nVuonna 1889 valmistunut uusrenessanssityylinen kivitalo Korkeavuorenkatu 21:ssä on todistanut Suomen ja Helsingin historiaa 130 vuotta. Salaisuuksien taloksikin kutsutussa rakennuksessa ovat asuneet muun muassa Anni Swan ja Juhani Aho.Venäjän valtion ostettua rakennuksen\, se toimi santarmien ja tsaarin salaisen poliisin ohranan käytössä.Suomen itsenäistyttyä talosta tuli sotaväen päämaja\, jota jääkärit johtivat. Sotien jälkeen taloon asettui rajavartiolaitoksen johto. YYA-Suomessa rajojen valvonnan oli oltava vaitonaista työtä: mitä vähemmän talosta puhuttiin\, sitä parempi.Vuonna 2019 talo palautetaan alkuperäiseen tehtäväänsä helsinkiläisten kotitaloksi.\nRakennuksen kuuluisin työntekijä oli Suomen puolustusta 1931 – 1939 suunnitellut C. G. E. Mannerheim. Niinpä opastetulle kierrokselle lähdetään Mannerheimin kotimuseon edestä\, Kalliolinnantie 14.Oppaana toimii Salaisuuksien talo -nimisen kirjan kirjoittaja Unto Hämäläinen\, jonka kiinnostavia tarinoita kuunnellessa kävellään Mannerheimin työmatka Korkeavuorenkadulle rakennusta ihastelemaan.\nTämän jälkeen istahdamme Kahvila Ventunoon\, jossa kuulemme lisää tarinoita Talosta\, siinä asuneista ja töitä tehneistä ihmisistä.\nOpastettu kierros kahvitteluineen kestää noin 1\,5 tuntia. Hinta: tilaisuus on osanottajille maksuton. 
LOCATION:Lähtöpaikka: Mannerheimin kotimuseo\, Kalliolinnantie 14\,
 00140\, Helsinki
URL:http://tapahtuma.hsj.fi/event/AeR3y
END:VEVENT
END:VCALENDAR
