BEGIN:VCALENDAR
METHOD:PUBLISH
VERSION:2.0
PRODID:-//Eventilla iCal Syndication//NONSGML Liana//EN
BEGIN:VEVENT
UID:AeR7Y@eventilla.com
DTSTAMP:20201119T123000Z
DTSTART:20201119T123000Z
DTEND:20201119T140000Z
SUMMARY:Etätyön johtaminen-webinaari\, Ulla Vilkman
DESCRIPTION:Etätyön johtaminen - webinaari\nTo 19.11.2020klo 14:30-16:00\nMiten etäisyys vaikuttaa yhteistyöhön ja johtamiseen?Onko etäjohtaminen vaikeampaa kuin lähijohtaminen?Näin sen ei tarvitse olla. Erilaista etäjohtaminen kuitenkin on.\n \n\n \nEtäjohtamisen valmentajan\, Ulla Vilkmanin luotsaama webinaari antaa arvokkaita työkaluja johtaa paremmin ihmisiä ja tiimejä.Opit\, kuinka voit saada asiat etenemään ja tiimin tekemään tehokasta ja tuloksellista yhteistyötä. Huomio on myös työntekijöiden jaksamisessa ja hyvinvoinnissa.\nPerehdymme etäjohtamiseen tutkitusta tiedosta käsin\, mutta etäjohtaminen ja hajautettu tiimityö avautuvat ennen kaikkea kiinnostavien käytännön esimerkkien myötä.\nWebinaarista saat vastauksia mm. seuraaviin kysymyksiin: \n\nMiten etäisyys vaikuttaa johtamiseen ja yhteistyöhön?\nMitkä perusasiat tulee olla kunnossa\, jotta hyvä etäjohtaminen on mahdollista? \nMiten voit varmistaa\, että asiat etenevät ja yhteistyö on tuloksellista?\nMiten ylläpidät yhteisöllisyyttä ja huolehdit työntekijöiden hyvinvoinnista?  \n\nWebinaari on tarkoitettu kaikille johtamistyötä tekeville ja siitä kiinnostuneille.Webinaari on HSJ:n jäsenille maksuton.Hinta muille 20e.\n \nUlla Vilkman on etätyön ja etäjohtamisen asiantuntija. Hän on ohjannut lukuisia organisaatioita ja hajautetusti toimivia tiimejä kehittämään yhteistyötään ja luomaan toimivia etätyökäytäntöjä\, Suomessa ja ulkomailla.\nUlla Vilkmanilta ilmestyneet julkaisut: Etäjohtaminen – tulosta joustavalla työllä (Talentum 2016)\,Hyvän johtamisen työkalupakki (Ideapakka 2017) sekäEtätyö ulkomailla – unelmasta todeksi (Basam Books 2020). \n \nTervetuloa mukaan etäjohtamisen koulutukseen!
LOCATION:
URL:http://tapahtuma.hsj.fi/event/AeR7Y
END:VEVENT
END:VCALENDAR
