BEGIN:VCALENDAR
METHOD:PUBLISH
VERSION:2.0
PRODID:-//Eventilla iCal Syndication//NONSGML Liana//EN
BEGIN:VEVENT
UID:AeRyy@eventilla.com
DTSTAMP:20230329T140000Z
DTSTART:20230329T140000Z
DTEND:20230329T183000Z
SUMMARY:Vuosikokous 2023
DESCRIPTION:HSJ:n vuosikokous 2023\nSokos Hotelli Presidentissä keskiviikkona 29.3.2023 kello 18(ruokailu 17-18).\nHuom! Kokoukseen tulee ilmoittautua ennakkoon. Viimeinen ilmoittautumispäivä on maanantai 20.3.Kokouksessa käsitellään Helsingin Seudun Journalistit ry:n sääntöjen pykälän 23 edellyttämät asiat. Lisäksi käsitellään Aikakauslehdentoimittajain Säätiön hallituksen täydennysvaali ja tilintarkastajien valinta.Kello 17-18 on tarjolla iltapalaa ruokajuomineen. Lisätiedot jaana.virtanen@hsj.fi tai puh. 050 518 3353.\nKoko vuosikokouskutsu on luettavissa kotisivuillamme.\nTervetuloa!\nHelsingin Seudun Journalistit ry:n hallitus
LOCATION:Hotelli Presidentti, Sylvi-sali\, Eteläinen Rautatiekatu 4\,
 00100\, Helsinki
URL:http://tapahtuma.hsj.fi/event/AeRyy
END:VEVENT
END:VCALENDAR
