BEGIN:VCALENDAR
METHOD:PUBLISH
VERSION:2.0
PRODID:-//Eventilla iCal Syndication//NONSGML Liana//EN
BEGIN:VEVENT
UID:B8EPw@eventilla.com
DTSTAMP:20241030T150000Z
DTSTART:20241030T150000Z
DTEND:20241030T173000Z
SUMMARY:Promptit haltuun!
DESCRIPTION:Toiveuusinta keväältä 2024:Promptit haltuun! Tekoäly kirjoittajan apuna\nkeskiviikkona 30.10. klo 17–19.30Journalistiliiton toimisto\, Ympyrätalo\, Siltasaarenkatu 18 A\, 7. krs\nLuovaan tekoälyyn perustuvat työkalut uivat osaksi työarkeamme\, halusimme tai emme. Laajat kielimallit ovat tekoälyjä\, jotka on koulutettu valtavan tekstiaineiston avulla tuottamaan todennäköisin vastaus annettuun kysymykseen. Kirjoittajalle niitä markkinoidaan esimerkiksi nopeana luonnostelijana\, nokkelana tiedonhakijana ja väsymättömänä sparrauskaverina.\nKielimalleja hyödyntäessä on olennaista tehdä kehotteet eli promptit niin\, että tekoäly osaa hakea niiden perusteella oikeaa tietoa. Onko tekoäly pelkkää hypeä\, vai voiko sitä oikeasti hyödyntää kirjoittajan työssä? Miten kehote eli prompti pitäisi laatia\, jotta kielimalli antaa järkevän vastauksen? Tule kirjoittajan promptipajaan ottamaan asiasta selvää! \nIllan aikana opimme\, miten kielimalleja voi käyttää sisältöjen luomisessa\, tekstien muokkaamisessa\, juttukonseptien ideoinnissa ja tiedonhaussa. Kuulemme myös tärkeistä eettisistä kysymyksistä liittyen tekijänoikeuksiin ja faktantarkistukseen. Kouluttajan johdolla tehtävät käytännön harjoitukset auttavat hahmottamaan\, mihin tekoäly pystyy ja miten sitä kannattaa ohjata.\nTekoälyn saloihin meidät opastaa journalistitaustainen kouluttaja Pinja Valkonen. Koulutuksen jälkeen ymmärrät miten erilaiset kielimallit toimivat\, hallitset tekoälyn ohjaamisen perusteet ja tiedostat siihen liittyvät haasteet. Mikä tärkeintä\, pystyt hyödyntämään tekoälyä käytännön työtehtävissä heti koulutuksen jälkeen. \n\nTekoälykouluttaja Pinja Valkonen \nHarjoituksia varten tarvitset oman kannettavan tietokoneen ja jonkin kielimallin – näitä ovat esimerkiksi Chat GPT\, Copilot for Bing ja Google Gemini. Luo käyttäjätili ja kokeile kielimallin käyttöä jo ennen koulutusta\, niin pääset heti kiinni harjoituksiin.\nHUOM. Työpajaan suositellaan maksullista sovellusta\, esimerkiksi ChatGPT:n maksullista tiliä. Ilmaistileissä on käyttöraja\, joka saattaa tulla työpajan aikana vastaan. Käyttörajoituksia voi yrittää kiertää myös käyttämällä kahta sovellusta rinnakkain (esimerkiksi ChatGPT:n ja Copilot for Bingin ilmaisversiot).\nHUOM. Tämä koulutus on lyhyempi versio tammikuussa 2024 järjestetystä kurssista ChatGPT kirjoittajan työparina\, ja se on tarkoitettu ensisijaisesti uusille osallistujille.\nKoulutukseen mahtuu mukaan 30 HSJ:läistä ja se on maksullinen:\n\n 30 euroa työsuhteiset\, freelancerit\, eläkeläiset\n 15 euroa työttömät ja opiskelijat\n\nLippu valitaan ilmoittautumisen yhteydessä. Maksua varten tarvitset pankkitunnukset tai puhelimen mobiilipankkisovelluksen.\nHintaan sisältyy ennen koulutusta tarjottava kahvi/tee ja sämpylä.\nHSJ tukee jäsentensä osallistumista maksullisiin koulutuksiin ja tapahtumiin vähintään 40 prosentilla. Muistathan\, että työnantajalta voi tiedustella osallistumista ammatillisen koulutuksen kustannuksiin.\nIlmoittaudu viimeistään 20.10. Tervetuloa!
LOCATION:Journalistiliitto\, Siltasaarenkatu 18 A, 7. krs\, 00530\,
 Helsinki\, Suomi
URL:http://tapahtuma.hsj.fi/promptithaltuun
END:VEVENT
END:VCALENDAR
