BEGIN:VCALENDAR
METHOD:PUBLISH
VERSION:2.0
PRODID:-//Eventilla iCal Syndication//NONSGML Liana//EN
BEGIN:VEVENT
UID:B8R2Y@eventilla.com
DTSTAMP:20210428T140000Z
DTSTART:20210428T140000Z
DTEND:20210428T170000Z
SUMMARY:Kuvatoimittamisen ABC
DESCRIPTION:Kuvatoimittamisen ABC\nKeskiviikkona 28.4. klo 17-20 Teams-webinaari\n \nTeetkö työtä kuvien\, kuvaamisen ja visualistien kanssa\, mutta et ole saanut alan koulutusta? Monien jäsentemme toivoman koulutuksen avulla saat tuntuman alan perusteisiin.\nKuvatoimittaja Sarri Kukkonen avaa visuaalisen maailman keskeisiä niksejä koulutuksessa\, joka on suunnattu niin uutis- ja aikausmedioiden kirjoittaville toimittajille\, nettisivujen ja somesisällön tekijöille\, tuottajille\, toimituspäälliköille kuin kustannustoimittajille ja viestijöille.\nKoulutuksen tavoitteet:\n\nHerätellä näkemään kuvan käyttöön ja kuvatoimitustyöhön keskeisesti vaikuttavia asioita.\nAuttaa ymmärtämään ja tunnistamaan eri kuvatyyppejä ja niiden erilaisia kerronnan tapoja ja kuvaajapositiota.\nAuttaa kuvien suunnittelussa\, valinnoissa ja hankinnassa.\nAuttaa miettimään ja määrittämään\, miten kuvan kohderyhmä ja se\, mitä kuvalla halutaan kertoa\, vaikuttaa kuvien valintakriteereihin.\nAuttaa kuvien tilaamisessa antamalla käytännön vinkkejä kuvien suunnitteluun\, kuvaajien ja kuvattavien kanssa työskentelyyn ja kuvatoimitusprosessin eri vaiheisiin.\nInspiroida ja antaa vinkkejä kuvatoimitustyöhön.\n\n \nHuom! Kurssin pääpaino on still-kuvassa\, videot mainitaan\, mutta niihin ei pureuduta.\n \nIlmoittaudu mukaan!
LOCATION:Teams-webinaari
URL:http://tapahtuma.hsj.fi/event/B8R2Y
END:VEVENT
END:VCALENDAR
