BEGIN:VCALENDAR
METHOD:PUBLISH
VERSION:2.0
PRODID:-//Eventilla iCal Syndication//NONSGML Liana//EN
BEGIN:VEVENT
UID:B8RQY@eventilla.com
DTSTAMP:20220308T140000Z
DTSTART:20220308T140000Z
DTEND:20220308T171500Z
SUMMARY:Hätäensiapukurssi
DESCRIPTION:SPR Hätäensiapukurssi 4 t®\nWebinaari tiistaina 8.3. kello 16.00–19.15\nOnko aika päivittää ensiaputaitosi? Hätäensiapukurssin voi korona-aikaan suorittaa myös etänä. Pelastustaidoista on hyötyä niin etätyössä\, työpaikalla kuin vapaa-ajalla!\nSuomen Punaisen Ristin kurssilla harjoitellaan hätäensiavun aiheita. Tavoitteena on lisätä auttamisrohkeutta henkeä uhkaavissa tilanteissa. Koulutus sisältää käytännön harjoitteita ja ohjausta videoyhteydellä.\nKurssille mahtuu 20 osallistujaa. HSJ toimittaa SPR:lta saamansa Teams-linkin ja tarkemmat osallistumisohjeet ilmoittautujille viimeistään vuorokautta ennen kurssia. Osallistujat saavat mobiilitodistuksen kurssin suorittamisesta.\nKenelle?\nKurssille voi osallistua ilman aikaisempaa ensiapukoulutusta. Koulutus soveltuu kaikille\, jotka haluavat kehittää omia ensiaputaitojaan tai päivittää voimassaolevan Ensiapukurssi EA 1® - tai EA 2® -todistuksen seuraavaksi kolmeksi vuodeksi. Päivityksen voi tehdä yhden kerran.\nKurssin tarkempi sisältö\n\ntoiminta auttamistilanteessa\ntajuttoman henkilön tunnistaminen ja ensiapu\npainelu-puhalluselvytys sekä neuvovan defibrillaattorin käyttö\nensiapu tukehtumassa olevalle henkilölle\nraajassa olevan suuren verenvuodon tyrehdyttäminen\nsokki\ntapaturmien ehkäisy\n\nKouluttaja\nKouluttaja on Punaisen Ristin ensiavun ja terveystiedon kouluttaja (ETK)\, jonka pohjakoulutuksena on sairaanhoitajan tai terveydenhoitajan tutkinto tai Punaisen Ristin hätäensiavunkouluttaja (HEK)\, jonka pohjakoulutuksena on terveydenhuollon ammattitutkinto.\nTodistus\nSPR:n ensiapukurssit ovat henkilösertifikoituja koulutuksia. Osallistujan suoritus viedään todistus- ja pätevyysrekisteriin\, jossa osallistuja voi itse seurata todistuksensa voimassaoloa.\nOsallistuja saa mobiilitodistuksen kurssin suorittamisesta.\nJos osallistuja tahtoo kurssista mobiilitodistuksen lisäksi perinteisen kotiin lähetettävän ensiapukortin\, sen voi tilata itse SPR:n järjestelmän kautta hintaan 14\,90 € + alv.\nOsallistumismaksu\nKurssin hinta on 15 euroa / HSJ:n jäsen.\nHSJ tukee voimakkaasti jäsentensä osallistumista kurssille: yhdistys tarjoaa jäsenilleen koulutuksen ja maksaa osan myös osallistujien henkilökohtaisesta kurssitodistuksesta.\nKurssi maksetaan ilmoittautumisen yhteydessä. Maksua varten tarvitset pankkitunnukset tai puhelimen mobiilipankkisovelluksen.\nIlmoittaudu viimeistään 22.2.\nTervetuloa!
LOCATION:Teams-webinaari
URL:http://tapahtuma.hsj.fi/event/B8RQY
END:VEVENT
END:VCALENDAR
