BEGIN:VCALENDAR
METHOD:PUBLISH
VERSION:2.0
PRODID:-//Eventilla iCal Syndication//NONSGML Liana//EN
BEGIN:VEVENT
UID:Bgpwo@eventilla.com
DTSTAMP:20260312T160000Z
DTSTART:20260312T160000Z
DTEND:20260312T190000Z
SUMMARY:HSJ:n nuorisolaisklubin startti
DESCRIPTION:HSJ:n nuorisolaisklubin startti\ntorstaina 12.3. kello 18–21Manalan kellari\, Dagmarinkatu 2\, Helsinki\nNuorisolaisklubi järjestää mielenkiintoisia tapahtumia ja ohjelmaa HSJ:n nuoremman ikäluokan jäsenille!\nNuorisolaisklubiin ovat tervetulleita kaikki itsensä nuorisolaiseksi lukevat: olit sitten opiskelija\, paikkaasi vielä etsivä\, juuri työelämään hypännyt\, useamman vuoden alalla paiskinut tai muuten nuorisolaisten juttuihin samaistuva henkilö.\nStarttitapahtumassa on luvassa kollegoihin tutustumista yli työpaikkarajojen\, vapaata keskustelua työelämän nykytilanteesta ja mahdollisuus ideoita sitä\, mitä klubi järjestää tulevaisuudessa. Ensimmäistä kokoontumista luotsaavat Reetta Malmberg\, Sipe Myllyniemi ja Sonja Saarinen.\nIllan menussa on pizzaa\, tarjoamme myös ensimmäisen juoman. Baari on auki kello yhdeksään saakka\, jolloin tapahtuma päättyy. Tilaisuus on maksuton ja mukaan mahtuu 50 osallistujaa.\nVaraa paikkasi pian\, ilmoittautuminen päättyy 9.3.\nLämpimästi tervetuloa HSJ:n nuorisolaiset! 
LOCATION:Manalan kellari\, Dagmarinkatu 2\, 00100\, Helsinki\, Suomi
URL:http://tapahtuma.hsj.fi/nuorisolaisklubinstartti
END:VEVENT
END:VCALENDAR
