BEGIN:VCALENDAR
METHOD:PUBLISH
VERSION:2.0
PRODID:-//Eventilla iCal Syndication//NONSGML Liana//EN
BEGIN:VEVENT
UID:D4RAE@eventilla.com
DTSTAMP:20211201T150000Z
DTSTART:20211201T150000Z
DTEND:20211201T170000Z
SUMMARY:Long Play -koulutus: Asiateksti eläväksi
DESCRIPTION:Long Play -koulutus: Asiateksti eläväksi\nkeskiviikkona 1.12. klo 17-19Original Sokos Hotel Presidentti\, Eteläinen Rautatiekatu 4\, Helsinki\n \nLong Playn tuottamassa koulutuksessa opit\, miten lukija koukutetaan asiatekstiin mukaan. Kouluttajana kokenut journalisti\, toimituspäällikkö Anu Silfverberg.\nKoulutuksen aiheina ovat mm.:\n\nnäkökulman rajaus\nmateriaalin ja sitaattien hallinta ja valinta\nkerronnan keinot ja tarinan löytyminen\ntekstin kertojan muodostuminen\ntarinallisen\, sujuvan tekstin rakenne.\n\nKoulutus sisältää sekä luennon asiatekstin elävöittämisen keinoista että aikaa kysymyksille\, keskustelulle ja ongelmanratkaisulle. \nKoulutus sopii kaikille asiatekstien tekijöille\, kuten toimittajille\, tietokirjailijoille\, tuottajille\, kustannustoimittajille ja tiedottajille.\nTilaisuuteen otetaan 40 osallistujaa. Jos kurssi täyttyy ja jonottajia tulee riittävästi\, koulutus voidaan uusia.\nTämä koulutus on maksullinen:\n\n 25 euroa työsuhteiset\, freelancerit\, eläkeläiset\n 10 euroa työttömät ja opiskelijat\n\nLippu valitaan ilmoittautumisen yhteydessä. Maksua varten tarvitset pankkitunnukset tai puhelimen mobiilipankkisovelluksen.\nHintaan sisältyy ennen koulutusta tarjottava kahvi/tee ja sämpylä. Käytämme tilaisuudessa maskia ja käsidesiä.\nHSJ tukee jäsentensä osallistumista maksullisiin koulutuksiin ja tapahtumiin vähintään 40 prosentilla. Muistathan\, että työnantajalta voi tiedustella osallistumista ammatillisen koulutuksen kustannuksiin.\nTervetuloa!\nKoronaturvallisuus (edit. 28.11.)\nSokos Hotels tiedotti ottavansa käyttöön koronapassit S-ryhmän toimipaikoissa 28.11. lähtien. Passia edellytetään Presidentissä hotellin koko aukiolon ajan. Siten myös koulutukseen 1.12. tulevilta edellytetään koronapassia.\nKoronapassina toimii EU:n digitaalinen koronatodistus. Siitä on käytävä ilmi 2 rokotusta\, tieto sairastetusta taudista tai max. 72 h vanha PCR-testillä saatu negatiivinen testitulos. Pikatestin tulos ei käy koronapassista.\nKoronapassin saat kirjautumalla Omakantaan. Tallenna todistus mobiililaitteeseesi jo etukäteen tai tulosta se. Lisätietoja koronapassista saat osoitteesta www.kanta.fi/koronapassi ja Omakannan asiakaspalvelusta: 020 634 4588 kello 9 –16.\nJos osallistut tilaisuuteen Presidentissä\, tulethan paikalle vain terveenä. Luentosalissa on mahdollisuus noudattaa turvavälejä ja suosittelemme maskin käyttöä. Presidentissä on tarjolla käsidesiä.
LOCATION:Sokos Hotel Presidentti\, Eteläinen Rautatiekatu 4\, 00100\,
 Helsinki
URL:http://tapahtuma.hsj.fi/event/D4RAE
END:VEVENT
END:VCALENDAR
