BEGIN:VCALENDAR
METHOD:PUBLISH
VERSION:2.0
PRODID:-//Eventilla iCal Syndication//NONSGML Liana//EN
BEGIN:VEVENT
UID:DVlrv@eventilla.com
DTSTAMP:20251203T133000Z
DTSTART:20251203T133000Z
DTEND:20251203T153000Z
SUMMARY:Rekrytoijien vinkit kesätyöhakuun
DESCRIPTION:Rekrytoijien vinkit kesätyöhakuun\nkeskiviikkona 3.12. kello 15.30–17.30 Keskustakirjasto Oodi\, Maijansali\, Töölönlahdenkatu 4\, Helsinki\nOpiskelija\, etsitkö kesätyö- tai harjoittelupaikkaa media-alalta? Tule kuulemaan mediatalojen ja alan organisaatioiden työmahdollisuuksista! Samalla saat alan ammattilaisilta käytännön vinkkejä hakemusten tekemiseen.\nToimitustensa kesätyömahdollisuuksista ovat kertomassa Helsingin Sanomien some- ja audiotiimin esihenkilö Merituuli Saikkonen\, Ylen Uutiset ja urheilu -yksikön kesätoimittajahauista vastaava Kaj Backman\, sekä Ilta-Sanomien uutisdeskin esihenkilö Teemu Kuusijoensuu. Puheenvuoroissaan he valottavat myös\, millainen hakemus erottuu joukosta.\nUlkomaan työharjoittelumahdollisuuksista kertoo Suomen kulttuuri- ja tiedeinstituuttien viestinnän asiantuntija Uula Neitola. Helmi-maaliskuussa alkavassa Opetushallituksen EDUFI-harjoitteluhaussa on mukana myös eri puolilla maailmaa sijaitsevia instituutteja\, jotka edistävät suomalaisen taiteen\, tieteen ja kulttuurin liikkuvuutta.\nTilaisuuden päätteeksi on aikaa kysymyksille ja keskustelulle. Voit esittää omat kysymykseksi jo ilmoittautumisen yhteydessä\, niin viemme ne eteenpäin työnantajien edustajille.\nTapahtuman järjestävät Helsingin Seudun Journalistit HSJ ja Radio- ja televisiotoimittajien liitto RTTL\, jotka ovat molemmat Journalistiliiton jäsenyhdistyksiä. Tapahtuma on maksuton ja avoin kaikille alan opiskelijoille.\nMukaan mahtuu 70 osallistujaa. Ilmoittaudu ja varaa paikkasi viimeistään 2.12.\nLämpimästi tervetuloa!
LOCATION:Keskustakirjasto Oodi, Maijansali\, Töölönlahdenkatu 4\,
 00100\, Helsinki\, Suomi
URL:http://tapahtuma.hsj.fi/rekrytoijienvinkit2025
END:VEVENT
END:VCALENDAR
