BEGIN:VCALENDAR
METHOD:PUBLISH
VERSION:2.0
PRODID:-//Eventilla iCal Syndication//NONSGML Liana//EN
BEGIN:VEVENT
UID:EGb4M@eventilla.com
DTSTAMP:20250930T143000Z
DTSTART:20250930T143000Z
DTEND:20250930T190000Z
SUMMARY:FAO:n\, NOT:n ja HSJ:n Rajalla -elokuvailta
DESCRIPTION:Rajalla-elokuvailta\ntiistaina 30.9. kello 17.30 alkaen\nElokuva Kino Engelissä\, Sofiankatu 4\, Helsinki  Jatkot ravintola Baccossa\, Pohjoisesplanadi 9\, Helsinki \nLähde leffaan! Helsingin Seudun Journalistien sekä Radio- ja televisiotoimittajien liiton osastojen\, Freelance-Ammattiosasto FAO:n ja Nelosen ohjelmatyöntekijöiden NOT:n\, yhteistä verkostoitumisiltaa vietetään Torikortteleissa 30. syyskuuta.\nKino Engelin 2-salissa esitetään maaliskuussa ensi-iltansa saanut dokumentti Rajalla. Vuonna 2021 Parikkalan kunnassa odotetaan toiveikkaasti uuden rajanylityspaikan avaamista ja sen mukanaan tuomia mahdollisuuksia. Venäjän hyökkäyksellä Ukrainaan 2022 on kuitenkin suuria vaikutuksia pienen kunnan elämään. Vuonna 2023 Parikkalassa elätäänkin jo Euroopan pisimmällä Nato-rajalla.\nIllan vieraiksi saapuvat elokuvan ohjaaja Elina Hyvärinen ja tuottaja Mina Laamo\, jotka vastaavat yleisön kysymyksiin ja kertovat dokumentin tekemisestä.\nEngelin pieneen saliin mahtuu 55 osallistujaa. Maksuton näytös alkaa kello 17.30. Saavuthan paikalle ajoissa. Esityksen yhteydessä tarjotaan lasillinen kuohuvaa. Elokuvailta päättyy noin kello 19.30. Voit ilmoittautua myös jonoon\, mikäli kaikki paikat on varattu.\nJatkot\nVoit ilmoittautua myös elokuvaillan jatkoille. Nautimme italialaisesta ruoasta ja toistemme seurasta ravintola Baccossa (Pohjoisesplanadi 9). Mukaan jatkoille mahtuu 40 ensin ilmoittautunutta.\nYhdistykset tarjoavat osallistujille pizzan tai pääruoan ravintolan listalta 25 euroon asti\, mutta juomat ja muut mahdolliset ravintolassa tilattavat ruoat ovat omakustanteisia. Annos on kerrottava ilmoittautumisen yhteydessä\, tutustu menuun siis ensin.\nKatso tarkemmat ohjeet ja peruutusehdot alta.\nIllan kulku\n\nKello 17.30–18.45 Rajalla-elokuvan näytös Kino Engelin salissa 2\nKello 18.45–19.30 Elina Hyvärinen ja Mina Laamo kertovat elokuvan teosta\nNäytöksen jälkeen siirtyminen ravintola Baccoon (noin 100 metrin päässä Kino Engelistä)\nKello 19.45 jatkot ja ateria ravintola Baccossa. Ravintola sulkee ovensa torstaina kello 22\n\nIlmoittautumisohjeet ja vahvistus\n\nValitse sivun alareunasta paikka oman yhdistyksesi (HJS/FAO/MOT) mukaan\, jotta pääset ilmoittautumislomakkeeseen.\nValitse lomakkeessa ilmoittaudutko vain 1) elokuvaan tai 2) elokuvanäytökseen ja ravintolajatkoille. \nJos tahdot osallistua myös jatkoille\, kerro valitsemasi max. 25 euron hintainen pizza- tai pääruoka-annos Baccon listalta ilmoittautumisen yhteydessä. Suurelle ryhmälle on tehtävä yhtenäinen tilaus etukäteen.\nIlmoita valitsemasi annoksen yhteydessä myös ruokavaliotasi koskevat rajoitukset ja allergiat\, jotta ne voidaan ottaa huomioon ravintolassa.\nIlmoittautumisjärjestelmä lähettää sinulle automaattisen vahvistusviestin osallistumisestasi elokuvailtaan. Huomaa\, että saat vielä erillisen vahvistuksen HSJ:n toimistosta\, jos olet saanut paikan jatkoille. Viestin saat parin päivän kuluessa ilmoittautumisesta.\nKoska paikkoja ravintolaan on rajallisesti\, emme voi taata\, että kaikki halukkaat pääsevät Baccon jatkoille. Paikat jaetaan ilmoittautumisjärjestyksessä yhdistyksittäin. Jonoon kannattaa ilmoittautua mahdollisten vapautuvien paikkojen varalta. \n\nPeruutusehdot\n\nTapahtuma on osallistujille maksuton ravintolan omakustanteisia juomia lukuunottamatta. Ylitsepääsemättömän esteen sattuessa peru ilmoittautumisesi välittömästi.\n21.9. saakka voit perua ilmoittautumisesi vahvistusviestissä löytyvän linkin kautta. Lähetä peruutuksesta tieto myös ilmoittautumista hallinnoivan HSJ:n toimistoon: johanna.sillanpaa@hsj.fi\n22.9. jälkeen peruutuksesta tai ilmoittamatta poisjäännistä peritään 30 euron maksu. Maksusta voi vapautua sairaustodistuksen esittämällä\, tai jos tilalle ehditään saada toinen osallistuja. Maksulla paikataan yhdistyksille peruutuksesta koituvia kuluja.\n\nLämpimästi tervetuloa mukaan!\n \n \n \n 
LOCATION:Kino Engel\, Sofiankatu 4\, 00170\, Helsinki\, Suomi
URL:http://tapahtuma.hsj.fi/rajalla-elokuvailta
END:VEVENT
END:VCALENDAR
