BEGIN:VCALENDAR
METHOD:PUBLISH
VERSION:2.0
PRODID:-//Eventilla iCal Syndication//NONSGML Liana//EN
BEGIN:VEVENT
UID:ErJ9v@eventilla.com
DTSTAMP:20210601T083000Z
DTSTART:20210601T083000Z
DTEND:20210601T090000Z
SUMMARY:HSJ:n kotikoutsaus IV: stressinhallinta ja palautuminen
DESCRIPTION:(Tiedot jäsenkirjeestä)\nKotikoutsaus IV: Palautuminen ja stressinhallinta\nTeams-webinaari tiistaina 1.6. klo 8.30–8.50\nFysioterapeutti ja hyvinvointivalmentaja Joonas Putin käytännönläheiset kotikoutsaukset ovat saaneet paljon kiitosta.\nKevään viimeisessä koutsauksessa on luvassa tietoa unen ja levon tärkeydestä sekä tekniikkoja stressin purkamiseen. Liity mukaan!\nUusi linkki tiistain ohjaukseen löytyy alta. Ongelmatilanteessa ole yhteydessä Johannaan: 050 5522 045 tai johanna.sillanpaa@hsj.fi.
LOCATION:Teams-webinaari
URL:http://tapahtuma.hsj.fi/event/ErJ9v
END:VEVENT
END:VCALENDAR
