BEGIN:VCALENDAR
METHOD:PUBLISH
VERSION:2.0
PRODID:-//Eventilla iCal Syndication//NONSGML Liana//EN
BEGIN:VEVENT
UID:ErJQv@eventilla.com
DTSTAMP:20220407T144500Z
DTSTART:20220407T144500Z
DTEND:20220407T174000Z
SUMMARY:HZ/Hunt
DESCRIPTION:HZ/Hunt\ntorstaina 7.4. Tanssin talolla\ntutustuminen kello 17.45 alkaen\, esitys kello 19\nesityksen kesto n. 1 h 40 min (sis. väliajan)\nLIPUT TULEVAT MYYNTIIN TÄLLÄ SIVULLA MAANANTAINA 28.2. KELLO 10\nTanssin talo on auki! Helmikuussa avautunut Pohjoismaiden suurin tanssille omistettu tapahtumatila kutsuu HSJ:n jäseniä vierailulle. Ennen illan tanssinäytöksiä pääsemme tutustumaan Tanssin taloon ja kuulemme sen toiminnasta kello 17.45 alkaen.\nIlta jatkuu kahdella Tero Saarinen Companyn nykytanssiesityksellä Erkko-salissa. Ensin näemme uuden kantateoksen HZ\, johon koreografian on tehnyt Johanna Nuutinen. Teoksessa tanssivat Natasha Lommi\, Elina Häyrynen\, Saida Solla\, Eero Vesterinen ja Riccardo Zandonà.\nIllan toinen tanssiteos Hunt perustuu Tero Saarisen rakastettuun soolotulkintaan Igor Stravinskin Kevätuhrista. Torstaina teoksen tulkitsee balettitanssija Atte Kilpinen.\nMolemmat illan esitykset tutkivat nykyajan ärsyketulvaa. Huomaathan\, että kehollista kokemusta myös yleisössä herättelevät esitykset sisältävät voimakkaita ääniä ja strobovalaistusta\, joten niitä ei suositella ärsykeherkille. Sinun ei kuitenkaan tarvitse "puhua tanssia" osallistuaksesi: tule rohkeasti katsomaan ja kokemaan suomalaista nykytanssia!\n\nTanssin talo sijaitsee aivan Helsingin Kaapelitehtaan kulmalla. Sisäänkäynti on Kaapelitehtaan katetulta Lasipihalta. Saapumisohjeet löydät Tanssin talon sivustolta. Saat tarkemmat ohjeet ja tiedot lipusta myös lähempänä näytöstä.\nRyhmälippuja on varattu HSJ:n jäsenille yhteensä 20 kappaletta hintaryhmässä B.\nHSJ:n tukeman lipun hinta on 25 euroa. Jäsenyys tarkistetaan toimistolla. (B-hintaryhmän lippu verkkokaupasta on 49 euroa\, eläkeläisiltä 46 euroa. Huomaathan\, että alle 25-vuotiaat\, opiskelijat ja työttömät voivat lunastaa liput esitykseen hintaan 18–22 euroa\, mutta näitä alennuslippuja ei voida yhdistää ryhmävarauksiin.)\nMaksua varten tarvitset pankkitunnukset tai puhelimen mobiilipankkisovelluksen.\nOsallistuthan esitykseen vain terveenä. Tarkemmat koronaturvallisuuteen liittyvät ohjeet annetaan ennen esitystä.\n\nTervetuloa!\nHSJ tukee jäsentensä osallistumista maksullisiin koulutuksiin ja tapahtumiin vähintään 40 prosentilla.
LOCATION:Tanssin talo\, Kaapeliaukio 3\, 00180\, Helsinki
URL:http://tapahtuma.hsj.fi/event/ErJQv
END:VEVENT
END:VCALENDAR
