BEGIN:VCALENDAR
METHOD:PUBLISH
VERSION:2.0
PRODID:-//Eventilla iCal Syndication//NONSGML Liana//EN
BEGIN:VEVENT
UID:GwgBa@eventilla.com
DTSTAMP:20250521T140000Z
DTSTART:20250521T140000Z
DTEND:20250521T160000Z
SUMMARY:Kirjasuunnittelija Piia Aho
DESCRIPTION:kuva: Sabrina Bqain \nTutustu kirjasuunnittelijan työhön: Piia Aho kertoo kansien suunnittelusta\nkeskiviikkona 21.5. klo 17–19Otava\, Uudenmaankatu 10\, Helsinki\nKirjojen ulkoasun suunnittelu on perinteikäs mutta ajassa kiinni oleva ala\, jonka ammattilaisia kuuluu myös HSJ:n jäsenistöön.\nMitä kirjasuunnittelija oikeastaan tekee? Mitä väliä on fontilla tai sisäkannen värillä? Miten eri tyylilajeja suunnitellaan? Mistä tietää\, millainen kansi myy? Ja millaista on työskennellä kirjailijoiden kanssa?\nTervetuloa tutustumaan kirjasuunnitteluun! Työstään kertoo Salli-palkittu AD Piia Aho. Hän on työskennellyt kustannusosakeyhtiö Otavassa vuodesta 2003 ja vastaa tällä hetkellä kaunokirjallisuuden ulkoasuista. Piia on myös yksi Kirjasuunnittelijoiden killan perustajista ja sen kantava voima.\nIllan aikana tutustutaan kirjasuunnittelijan työhön\, nähdään esimerkkejä suunnitteluprosessin eri vaiheista ja päästään hipelöimään valmiita kansia. Kuulemme asiaa myös Otavan kustantamoperheestä ja graafisen suunnittelun kokonaisuudesta.\nTilaisuudessa on runsaasti aikaa kysymyksille ja keskustelulle. Illan päätteeksi kiinnostuneet pääsevät myös kurkistamaan kustantamon perinteikkäisiin tiloihin.\nTilaisuuteen mahtuu mukaan 30 HSJ:läistä ja se on jäsenille maksuton. Tarjoamme lasin viiniä ja pientä naposteltavaa.\nIlmoittaudu mukaan viimeistään 18.5.\nLämpimästi tervetuloa!
LOCATION:Otava\, Uudenmaankatu 10\, 00120\, Helsinki\, Suomi
URL:http://tapahtuma.hsj.fi/kirjasuunnittelu
END:VEVENT
END:VCALENDAR
