BEGIN:VCALENDAR
METHOD:PUBLISH
VERSION:2.0
PRODID:-//Eventilla iCal Syndication//NONSGML Liana//EN
BEGIN:VEVENT
UID:JBREz@eventilla.com
DTSTAMP:20210504T083000Z
DTSTART:20210504T083000Z
DTEND:20210504T090000Z
SUMMARY:HSJ:n kotikoutsaus II: niska-hartiaseutu
DESCRIPTION:(Teksti jäsenkirjeestä)\nKotikoutsaus II: Niska-hartiaseutu\nTeams-webinaari tiistaina 4.5. klo 8.30–8.50\nHSJ:n ensimmäinen kotikoutsaus on pidetty ja hyväksi todettu! Liity Joonaksen seuraan ensi viikolla\, kun aiheena on:\n\nTiistai 4.5. klo 8.30: Niska-hartiaseutu: eroon jumeista! Parhaat vinkit ennaltaehkäisyyn ja liikkeisiin.\nTiistai 18.5. klo 8.30: Selkä\nTiistai 1.6. klo 8.30: Palautuminen ja stressinhallinta\n\nLiity kotikoutsaukseen alla olevasta Teams-linkistä. Kokeile sen toimivuutta etukäteen ja liity mukaan hieman ennen ohjauksen alkua. Live-osallistujilla on mahdollisuus myös kysyä neuvoa Joonakselta.\nKotikoutsaukset ovat jäsenille maksuttomia. Rohkeasti mukaan! Lisätietoja antaa Johanna: 050 5522 045 tai johanna.sillanpaa@hsj.fi.
LOCATION:Teams-webinaari
URL:http://tapahtuma.hsj.fi/event/JBREz
END:VEVENT
END:VCALENDAR
