BEGIN:VCALENDAR
METHOD:PUBLISH
VERSION:2.0
PRODID:-//Eventilla iCal Syndication//NONSGML Liana//EN
BEGIN:VEVENT
UID:Jw1yW@eventilla.com
DTSTAMP:20251112T150000Z
DTSTART:20251112T150000Z
DTEND:20251112T170000Z
SUMMARY:Viestijöiden ilta
DESCRIPTION:Viestijöiden ilta\nkeskiviikkona 12.11. klo 17–19Journalistiliiton toimisto\, Ympyrätalo\, Siltasaarenkatu 18 A\, 7. krs\, Helsinki\nTervetuloa viestijöiden omaan illanviettoon Journalistiliiton toimistolle!\nVieraanamme on viestintäyhtiö Aina Advisorsin johtava neuvonantaja ja perustajaosakas Katri Makkonen\, joka on monipuolisen uransa aikana työskennellyt myös ulkomaantoimittajana\, A-studion juontajana ja tasavallan presidentin viestintäpäällikkönä.\nIllan aikana kuullaan näkökulmia ja ammatillisia vinkkejä kriisiviestintään. Miten kohut syntyvät\, millä tavalla niihin voi varautua ja mitä mainekriisin hoitaminen pitää sisällään? Aikaa on varattu myös kysymyksille\, keskustelulle ja vapaalle seurustelulle. Tarjoamme pientä haukattavaa ja lasin kuplivaa.\nJournalistiliiton ja Helsingin Seudun Journalistien tuottama tapahtuma on maksuton ja tarkoitettu kaikille ammatikseen viestintää tekeville liiton jäsenille. \nVoit kutsua tapahtumaan myös yhden liittoon vielä kuulumattoman viestijäkollegasi ja halutessasi suositella hänelle liiton jäsenyyttä. Journalistiliiton jäsensuosittelukampanjan mukaisesti saat uudesta rekrytoidusta jäsenestä 50 euron arvoisen lahjakortin! Lahjakortin saa kaikista rekrytoiduista jäsenistä paitsi uusista eläkeläis- ja opiskelijajäsenistä. Lue lisää kampanjasta.\nHUOM. Tapahtuma on täynnä. Jonotuslistalle voi ilmoittautua täällä.\n \nLämpimästi tervetuloa!\n 
LOCATION:Journalistiliitto\, Siltasaarenkatu 18 A, 7. krs\, 00530\,
 Helsinki\, Suomi
URL:http://tapahtuma.hsj.fi/viestijoidenilta2025
END:VEVENT
END:VCALENDAR
