BEGIN:VCALENDAR
METHOD:PUBLISH
VERSION:2.0
PRODID:-//Eventilla iCal Syndication//NONSGML Liana//EN
BEGIN:VEVENT
UID:K6R2v@eventilla.com
DTSTAMP:20230426T133000Z
DTSTART:20230426T133000Z
DTEND:20230426T150000Z
SUMMARY:Webinaari: Kysy kuvan käytöstä
DESCRIPTION:Webinaari: Kysy kuvan käytöstä\nkeskiviikkona 26.4. kello 16:30–18\n \nSaako tapahtumassa otettuja kuvia julkaista ilman erillistä lupaa niissä esiintyviltä henkilöiltä? Voiko julkisen Instagram-tilin kuvaa käyttää siihen liittyvässä jutussa? Rajoittavatko tekijänoikeudet meemien käyttöä? Entäs kuvat\, joiden taustalla näkyy taideteoksia tai tuotemerkkejä?\nKysy asiantuntijalta kuvien käytöstä! Sanavapaus- ja tekijänoikeusasioihin erikoistunut juristi ja Aikakausmedian johtaja Mikko Hoikka vastaa kysymyksiisi HSJ:n webinaarissa keskiviikkona 26.4. klo 16:30-18. Kysymysten ja vastausten lomassa kuulemme käytännön neuvoja esimerkiksi tekijänoikeuksista\, julkisrauhasta\, teoskynnyksestä ja sitaattioikeuksista.\nPyydämme sinua esittämään kuvan käyttöön liittyvät kysymyksesi jo ilmoittautumisen yhteydessä\, jotta vastausten valmisteluun jää riittävästi aikaa. Webinaarin aikana on mahdollisuus myös lisäkysymysten esittämiseen.\n \n \nMikko Hoikka\, kuva: Anniina Nissinen\nWebinaari on HSJ:n jäsenille maksuton. Tilaisuus järjestetään Teams-sovelluksessa\, osallistumislinkin saat suoraan sähköpostiisi ennen webinaarin alkua.\nIlmoittaudu ja esitä kysymyksesi kuvan käytöstä 17.4. mennessä.Webinaaria voi tulla kuuntelemaan myös ilman kysymyksiä\, ilmoittaudu siinä tapauksessa viimeistään 24.4.\nTervetuloa!
LOCATION:Teams
URL:http://tapahtuma.hsj.fi/event/K6R2v
END:VEVENT
END:VCALENDAR
