BEGIN:VCALENDAR
METHOD:PUBLISH
VERSION:2.0
PRODID:-//Eventilla iCal Syndication//NONSGML Liana//EN
BEGIN:VEVENT
UID:K6RLR@eventilla.com
DTSTAMP:20210927T143000Z
DTSTART:20210927T143000Z
DTEND:20210927T163000Z
SUMMARY:Parhaat sieniruoat
DESCRIPTION:Parhaat sieniruoat\nverkkokeittokurssi maanantaina 27.9. klo 17.30–19.30\nSieniä kuin sateella\, mutta mitä niistä tekisi? Uudenmaan Marttojen verkkokeittokurssilla valmistetaan herkullista ja ravitsevaa sieniruokaa. Kurssin vetäjät Lilli Munck ja Viivi Maskulin opastavat sinua kotikeittiössäsi verkon etärihmastossa.\nKurssi rohkaisee ja tutustuttaa metsäsienten käsittelyyn ja valmistamiseen. Käytettävät lajikkeet ovat tyypillisimpiä luonnonvaraisia sieniä\, joita saa myös torilta ja kaupoista: kantarelleja\, suppilovahveroita ja tatteja – tuoreena ja kuivattuna (jälkimmäisiäkin löytyy kaupan hyllyltä).\nSaat hyvissä ajoin ennen kurssin alkamista sähköisen kurssipaketin\, jossa on tehtävien ruokien reseptit\, kauppalista sekä Teams-linkki. Kurssilla saat vinkkejä myös sienilajien korvaamiseen muilla lajikkeilla.\nKurssi on maksuton HSJ:n jäsenille\, mutta osallistujan hankittavaksi tulevat kauppalistan ainekset.\nOletpa sitten oman elämäsi Julia Child\, Nigella Lawson\, Yotam Ottolenghi tai Peukku Keskikämmen\, tule kokkailemaan yhdessä! Olemme kuulleet\, että tietokoneen ääressä voi keittiössä tehdä muutakin kuin töitä.
LOCATION:Verkkokeittokurssi
URL:http://tapahtuma.hsj.fi/event/K6RLR
END:VEVENT
END:VCALENDAR
